BEGIN:VCALENDAR
VERSION:2.0
PRODID:-//Families Feeling Safe - ECPv6.15.11//NONSGML v1.0//EN
CALSCALE:GREGORIAN
METHOD:PUBLISH
X-WR-CALNAME:Families Feeling Safe
X-ORIGINAL-URL:https://familiesfeelingsafe.co.uk
X-WR-CALDESC:Events for Families Feeling Safe
REFRESH-INTERVAL;VALUE=DURATION:PT1H
X-Robots-Tag:noindex
X-PUBLISHED-TTL:PT1H
BEGIN:VTIMEZONE
TZID:Europe/London
BEGIN:DAYLIGHT
TZOFFSETFROM:+0000
TZOFFSETTO:+0100
TZNAME:BST
DTSTART:20180325T010000
END:DAYLIGHT
BEGIN:STANDARD
TZOFFSETFROM:+0100
TZOFFSETTO:+0000
TZNAME:GMT
DTSTART:20181028T010000
END:STANDARD
BEGIN:DAYLIGHT
TZOFFSETFROM:+0000
TZOFFSETTO:+0100
TZNAME:BST
DTSTART:20190331T010000
END:DAYLIGHT
BEGIN:STANDARD
TZOFFSETFROM:+0100
TZOFFSETTO:+0000
TZNAME:GMT
DTSTART:20191027T010000
END:STANDARD
BEGIN:DAYLIGHT
TZOFFSETFROM:+0000
TZOFFSETTO:+0100
TZNAME:BST
DTSTART:20200329T010000
END:DAYLIGHT
BEGIN:STANDARD
TZOFFSETFROM:+0100
TZOFFSETTO:+0000
TZNAME:GMT
DTSTART:20201025T010000
END:STANDARD
BEGIN:DAYLIGHT
TZOFFSETFROM:+0000
TZOFFSETTO:+0100
TZNAME:BST
DTSTART:20210328T010000
END:DAYLIGHT
BEGIN:STANDARD
TZOFFSETFROM:+0100
TZOFFSETTO:+0000
TZNAME:GMT
DTSTART:20211031T010000
END:STANDARD
BEGIN:DAYLIGHT
TZOFFSETFROM:+0000
TZOFFSETTO:+0100
TZNAME:BST
DTSTART:20220327T010000
END:DAYLIGHT
BEGIN:STANDARD
TZOFFSETFROM:+0100
TZOFFSETTO:+0000
TZNAME:GMT
DTSTART:20221030T010000
END:STANDARD
BEGIN:DAYLIGHT
TZOFFSETFROM:+0000
TZOFFSETTO:+0100
TZNAME:BST
DTSTART:20230326T010000
END:DAYLIGHT
BEGIN:STANDARD
TZOFFSETFROM:+0100
TZOFFSETTO:+0000
TZNAME:GMT
DTSTART:20231029T010000
END:STANDARD
BEGIN:DAYLIGHT
TZOFFSETFROM:+0000
TZOFFSETTO:+0100
TZNAME:BST
DTSTART:20240331T010000
END:DAYLIGHT
BEGIN:STANDARD
TZOFFSETFROM:+0100
TZOFFSETTO:+0000
TZNAME:GMT
DTSTART:20241027T010000
END:STANDARD
BEGIN:DAYLIGHT
TZOFFSETFROM:+0000
TZOFFSETTO:+0100
TZNAME:BST
DTSTART:20250330T010000
END:DAYLIGHT
BEGIN:STANDARD
TZOFFSETFROM:+0100
TZOFFSETTO:+0000
TZNAME:GMT
DTSTART:20251026T010000
END:STANDARD
BEGIN:DAYLIGHT
TZOFFSETFROM:+0000
TZOFFSETTO:+0100
TZNAME:BST
DTSTART:20260329T010000
END:DAYLIGHT
BEGIN:STANDARD
TZOFFSETFROM:+0100
TZOFFSETTO:+0000
TZNAME:GMT
DTSTART:20261025T010000
END:STANDARD
BEGIN:DAYLIGHT
TZOFFSETFROM:+0000
TZOFFSETTO:+0100
TZNAME:BST
DTSTART:20270328T010000
END:DAYLIGHT
BEGIN:STANDARD
TZOFFSETFROM:+0100
TZOFFSETTO:+0000
TZNAME:GMT
DTSTART:20271031T010000
END:STANDARD
END:VTIMEZONE
BEGIN:VTIMEZONE
TZID:UTC
BEGIN:STANDARD
TZOFFSETFROM:+0000
TZOFFSETTO:+0000
TZNAME:UTC
DTSTART:20140101T000000
END:STANDARD
END:VTIMEZONE
BEGIN:VEVENT
DTSTART;TZID=Europe/London:20260122T093000
DTEND;TZID=Europe/London:20260122T113000
DTSTAMP:20260420T191900
CREATED:20251117T105724Z
LAST-MODIFIED:20251117T105724Z
UID:10001102-1769074200-1769081400@familiesfeelingsafe.co.uk
SUMMARY:A fully funded (free) Mums\, Dads and Carers course – for children 5-19
DESCRIPTION:Thursday mornings 9.30am—11.30am 22 Jan—26 March 2026
URL:https://familiesfeelingsafe.co.uk/event/a-fully-funded-free-mums-dads-and-carers-course-for-children-5-19/
LOCATION:Wormley School Community Room\, Cozens Lane East\, Broxbourne\, EN10 6QA\, United Kingdom
CATEGORIES:Families,Families Feeling Safe programmes
ATTACH;FMTTYPE=image/jpeg:https://familiesfeelingsafe.co.uk/wp-content/uploads/2018/12/shutterstock_12085573.jpg
GEO:51.736559;-0.0177326
X-APPLE-STRUCTURED-LOCATION;VALUE=URI;X-ADDRESS=Wormley School Community Room Cozens Lane East Broxbourne EN10 6QA United Kingdom;X-APPLE-RADIUS=500;X-TITLE=Cozens Lane East:geo:-0.0177326,51.736559
END:VEVENT
BEGIN:VEVENT
DTSTART;TZID=Europe/London:20250507T093000
DTEND;TZID=Europe/London:20250507T113000
DTSTAMP:20260420T191900
CREATED:20231113T112908Z
LAST-MODIFIED:20250429T070822Z
UID:10001060-1746610200-1746617400@familiesfeelingsafe.co.uk
SUMMARY:A FREE course for Mums\, Dads\, Step-Parents and Carers of children 5-19yrs
DESCRIPTION:Wednesday mornings 9.30am—11.30am 7 May—9 July (excluding half-term)
URL:https://familiesfeelingsafe.co.uk/event/a-free-course-for-mums-dads-step-parents-and-carers-of-children-5-19yrs-4/
LOCATION:Wormley School Community Room\, Cozens Lane East\, Broxbourne\, EN10 6QA\, United Kingdom
CATEGORIES:Families,Families Feeling Safe programmes
ATTACH;FMTTYPE=image/jpeg:https://familiesfeelingsafe.co.uk/wp-content/uploads/2018/12/shutterstock_12085573.jpg
GEO:51.736559;-0.0177326
X-APPLE-STRUCTURED-LOCATION;VALUE=URI;X-ADDRESS=Wormley School Community Room Cozens Lane East Broxbourne EN10 6QA United Kingdom;X-APPLE-RADIUS=500;X-TITLE=Cozens Lane East:geo:-0.0177326,51.736559
END:VEVENT
BEGIN:VEVENT
DTSTART;TZID=Europe/London:20250124T093000
DTEND;TZID=Europe/London:20250124T113000
DTSTAMP:20260420T191900
CREATED:20241119T102104Z
LAST-MODIFIED:20241119T102104Z
UID:10001086-1737711000-1737718200@familiesfeelingsafe.co.uk
SUMMARY:A FREE course for Mums\, Dads\, and Carers of children 5-19yrs
DESCRIPTION:Friday mornings 9.30am—11.30am 24\, 31 Jan\, 7\, 14\, 21\, 28 Feb 2025
URL:https://familiesfeelingsafe.co.uk/event/a-free-course-for-mums-dads-and-carers-of-children-5-19yrs-2/
LOCATION:Wormley School Community Room\, Cozens Lane East\, Broxbourne\, EN10 6QA\, United Kingdom
CATEGORIES:Families,Families Feeling Safe programmes
ATTACH;FMTTYPE=image/jpeg:https://familiesfeelingsafe.co.uk/wp-content/uploads/2018/12/shutterstock_12085573.jpg
ORGANIZER;CN="Enquiries":MAILTO:enquiries@familiesfeelingsafe.co.uk
GEO:51.736559;-0.0177326
X-APPLE-STRUCTURED-LOCATION;VALUE=URI;X-ADDRESS=Wormley School Community Room Cozens Lane East Broxbourne EN10 6QA United Kingdom;X-APPLE-RADIUS=500;X-TITLE=Cozens Lane East:geo:-0.0177326,51.736559
END:VEVENT
BEGIN:VEVENT
DTSTART;TZID=Europe/London:20240919T093000
DTEND;TZID=Europe/London:20240919T113000
DTSTAMP:20260420T191900
CREATED:20240606T083933Z
LAST-MODIFIED:20240621T071321Z
UID:10001071-1726738200-1726745400@familiesfeelingsafe.co.uk
SUMMARY:FREE course for Mums\, Dads\, and Carers of children 5-19yrs
DESCRIPTION:Thursday mornings 9.30am—11.30am 19\, 26 Sept\, 3\,10\, 17\, 24 Oct\, 7\, 14 & 21 November 2024
URL:https://familiesfeelingsafe.co.uk/event/free-course-for-mums-dads-and-carers-of-children-5-19yrs/
LOCATION:Wormley School Community Room\, Cozens Lane East\, Broxbourne\, EN10 6QA\, United Kingdom
CATEGORIES:Families,Families Feeling Safe programmes
ATTACH;FMTTYPE=image/jpeg:https://familiesfeelingsafe.co.uk/wp-content/uploads/2015/04/shutterstock_142808332-Large.jpg
GEO:51.736559;-0.0177326
X-APPLE-STRUCTURED-LOCATION;VALUE=URI;X-ADDRESS=Wormley School Community Room Cozens Lane East Broxbourne EN10 6QA United Kingdom;X-APPLE-RADIUS=500;X-TITLE=Cozens Lane East:geo:-0.0177326,51.736559
END:VEVENT
BEGIN:VEVENT
DTSTART;TZID=Europe/London:20240503T093000
DTEND;TZID=Europe/London:20240503T113000
DTSTAMP:20260420T191900
CREATED:20240308T090337Z
LAST-MODIFIED:20240321T155038Z
UID:10001067-1714728600-1714735800@familiesfeelingsafe.co.uk
SUMMARY:A FREE course for Mums\, Dads\, Step-Parents and Carers of children 5-19yrs
DESCRIPTION:Friday mornings 9.30am—11.30am 3\, 10\, 17\, 24 May 7\, 14\, 21\, 28 June & 5 July 2024.
URL:https://familiesfeelingsafe.co.uk/event/a-free-course-for-mums-dads-step-parents-and-carers-of-children-5-19yrs-5/
LOCATION:Wormley School Community Room\, Cozens Lane East\, Broxbourne\, EN10 6QA\, United Kingdom
CATEGORIES:Families,Families Feeling Safe programmes
ATTACH;FMTTYPE=image/jpeg:https://familiesfeelingsafe.co.uk/wp-content/uploads/2018/12/shutterstock_12085573.jpg
GEO:51.736559;-0.0177326
X-APPLE-STRUCTURED-LOCATION;VALUE=URI;X-ADDRESS=Wormley School Community Room Cozens Lane East Broxbourne EN10 6QA United Kingdom;X-APPLE-RADIUS=500;X-TITLE=Cozens Lane East:geo:-0.0177326,51.736559
END:VEVENT
BEGIN:VEVENT
DTSTART;TZID=Europe/London:20230921T093000
DTEND;TZID=Europe/London:20230921T113000
DTSTAMP:20260420T191900
CREATED:20230601T124644Z
LAST-MODIFIED:20230606T090629Z
UID:10001050-1695288600-1695295800@familiesfeelingsafe.co.uk
SUMMARY:A FREE course for Mums\, Dads\, Step-Parents and Carers of children 5-19yrs
DESCRIPTION:Thursday mornings 9.30am—11.30am 21\, 28 Sept\, 5\, 12\, 19 Oct\, 2\, 9\, 16 & 23 Nov 2023.
URL:https://familiesfeelingsafe.co.uk/event/a-free-course-for-mums-dads-step-parents-and-carers-of-children-5-19yrs-3/
LOCATION:Wormley School Community Room\, Cozens Lane East\, Broxbourne\, EN10 6QA\, United Kingdom
CATEGORIES:Broxbourne,Families,Families Feeling Safe programmes
ATTACH;FMTTYPE=image/jpeg:https://familiesfeelingsafe.co.uk/wp-content/uploads/2018/12/shutterstock_12085573.jpg
GEO:51.736559;-0.0177326
X-APPLE-STRUCTURED-LOCATION;VALUE=URI;X-ADDRESS=Wormley School Community Room Cozens Lane East Broxbourne EN10 6QA United Kingdom;X-APPLE-RADIUS=500;X-TITLE=Cozens Lane East:geo:-0.0177326,51.736559
END:VEVENT
BEGIN:VEVENT
DTSTART;TZID=Europe/London:20230504T093000
DTEND;TZID=Europe/London:20230504T113000
DTSTAMP:20260420T191900
CREATED:20230316T095934Z
LAST-MODIFIED:20230418T114906Z
UID:10001045-1683192600-1683199800@familiesfeelingsafe.co.uk
SUMMARY:A FREE course for Mums\, Dads\, Step-Parents and Carers of children 5-19yrs
DESCRIPTION:Thursday mornings\, 9.30am—11.30am 4\, 11\, 18\, 25 May\, 8\, 15\, 22 & 29 June 2023.
URL:https://familiesfeelingsafe.co.uk/event/a-free-course-for-mums-dads-step-parents-and-carers-of-children-5-19yrs-2/
LOCATION:Wormley School Community Room\, Cozens Lane East\, Broxbourne\, EN10 6QA\, United Kingdom
CATEGORIES:Broxbourne,Families,Families Feeling Safe programmes
ATTACH;FMTTYPE=image/jpeg:https://familiesfeelingsafe.co.uk/wp-content/uploads/2018/12/shutterstock_12085573.jpg
GEO:51.736559;-0.0177326
X-APPLE-STRUCTURED-LOCATION;VALUE=URI;X-ADDRESS=Wormley School Community Room Cozens Lane East Broxbourne EN10 6QA United Kingdom;X-APPLE-RADIUS=500;X-TITLE=Cozens Lane East:geo:-0.0177326,51.736559
END:VEVENT
BEGIN:VEVENT
DTSTART;TZID=Europe/London:20230120T093000
DTEND;TZID=Europe/London:20230120T113000
DTSTAMP:20260420T191900
CREATED:20221117T123118Z
LAST-MODIFIED:20230106T102408Z
UID:10001040-1674207000-1674214200@familiesfeelingsafe.co.uk
SUMMARY:A FREE course for Mums\, Dads\, Step-Parents and Carers of children 5-19yrs
DESCRIPTION:Friday mornings 9.30am—11.30am 20\, 27 Jan\, 3\, 10\, 24 Feb\, 3\, 10\, 17 & 24 March 2023.
URL:https://familiesfeelingsafe.co.uk/event/a-free-course-for-mums-dads-step-parents-and-carers-of-children-5-19yrs/
LOCATION:Wormley School Community Room\, Cozens Lane East\, Broxbourne\, EN10 6QA\, United Kingdom
CATEGORIES:Families,Families Feeling Safe programmes
ATTACH;FMTTYPE=image/jpeg:https://familiesfeelingsafe.co.uk/wp-content/uploads/2018/12/shutterstock_12085573.jpg
GEO:51.736559;-0.0177326
X-APPLE-STRUCTURED-LOCATION;VALUE=URI;X-ADDRESS=Wormley School Community Room Cozens Lane East Broxbourne EN10 6QA United Kingdom;X-APPLE-RADIUS=500;X-TITLE=Cozens Lane East:geo:-0.0177326,51.736559
END:VEVENT
BEGIN:VEVENT
DTSTART;TZID=Europe/London:20200319T093000
DTEND;TZID=Europe/London:20200319T113000
DTSTAMP:20260420T191900
CREATED:20191107T102954Z
LAST-MODIFIED:20200310T115839Z
UID:10000842-1584610200-1584617400@familiesfeelingsafe.co.uk
SUMMARY:Families Feeling Safe Programme in Broxbourne
DESCRIPTION:Families Feeling Safe Protective Behaviours for Mums\, Dads and Carers of children 4-16 years . \nWednesday mornings 9.30am – 11.30am 15th January— 18th March 2020 (excluding half term 19th Feb)
URL:https://familiesfeelingsafe.co.uk/event/families-feeling-safe-programme-in-broxbourne-3/2020-03-19/
LOCATION:Wormley School Community Room\, Cozens Lane East\, Broxbourne\, EN10 6QA\, United Kingdom
CATEGORIES:Families,Families Feeling Safe programmes
ATTACH;FMTTYPE=image/jpeg:https://familiesfeelingsafe.co.uk/wp-content/uploads/2015/04/shutterstock_142808332-Large.jpg
GEO:51.736559;-0.0177326
X-APPLE-STRUCTURED-LOCATION;VALUE=URI;X-ADDRESS=Wormley School Community Room Cozens Lane East Broxbourne EN10 6QA United Kingdom;X-APPLE-RADIUS=500;X-TITLE=Cozens Lane East:geo:-0.0177326,51.736559
END:VEVENT
BEGIN:VEVENT
DTSTART;TZID=Europe/London:20191120T190000
DTEND;TZID=Europe/London:20191120T210000
DTSTAMP:20260420T191900
CREATED:20190621T151001Z
LAST-MODIFIED:20190807T124804Z
UID:10000802-1574276400-1574283600@familiesfeelingsafe.co.uk
SUMMARY:Families Feeling Safe Programme for Dads of children 4-16 years - Broxbourne
DESCRIPTION:Families Feeling Safe Protective Behaviours for Dads of children 4-16 years \nWednesday evenings 7.00—9.00pm 18th September – 20th November 2019
URL:https://familiesfeelingsafe.co.uk/event/families-feeling-safe-programme-for-dads-of-children-4-16-years-broxbourne/2019-11-20/
LOCATION:Wormley School Community Room\, Cozens Lane East\, Broxbourne\, EN10 6QA\, United Kingdom
CATEGORIES:Families,Families Feeling Safe programmes
ATTACH;FMTTYPE=image/jpeg:https://familiesfeelingsafe.co.uk/wp-content/uploads/2018/12/Families-Feeling-Safe-Dads.jpg
ORGANIZER;CN="Families Feeling Safe":MAILTO:admin@familiesfeelingsafe.co.uk
GEO:51.736559;-0.0177326
X-APPLE-STRUCTURED-LOCATION;VALUE=URI;X-ADDRESS=Wormley School Community Room Cozens Lane East Broxbourne EN10 6QA United Kingdom;X-APPLE-RADIUS=500;X-TITLE=Cozens Lane East:geo:-0.0177326,51.736559
END:VEVENT
BEGIN:VEVENT
DTSTART;TZID=UTC:20190509T093000
DTEND;TZID=UTC:20190509T113000
DTSTAMP:20260420T191900
CREATED:20181002T051839Z
LAST-MODIFIED:20190412T084955Z
UID:10000767-1557394200-1557401400@familiesfeelingsafe.co.uk
SUMMARY:Families Feeling Safe programme in Broxbourne
DESCRIPTION:Families Feeling Safe Protective Behaviours for Mums\, Dads and Carers of children 4-16 years \nThursday mornings 9.30-11.30am 9th May to 4th July (excluding half term 30th May)
URL:https://familiesfeelingsafe.co.uk/event/families-feeling-safe-programme-in-broxbourne-2/
LOCATION:Wormley School Community Room\, Cozens Lane East\, Broxbourne\, EN10 6QA\, United Kingdom
CATEGORIES:Families,Families Feeling Safe programmes
ATTACH;FMTTYPE=image/jpeg:https://familiesfeelingsafe.co.uk/wp-content/uploads/2015/04/shutterstock_142808332-Large.jpg
ORGANIZER;CN="Families Feeling Safe":MAILTO:admin@familiesfeelingsafe.co.uk
GEO:51.736559;-0.0177326
X-APPLE-STRUCTURED-LOCATION;VALUE=URI;X-ADDRESS=Wormley School Community Room Cozens Lane East Broxbourne EN10 6QA United Kingdom;X-APPLE-RADIUS=500;X-TITLE=Cozens Lane East:geo:-0.0177326,51.736559
END:VEVENT
BEGIN:VEVENT
DTSTART;TZID=UTC:20190207T190000
DTEND;TZID=UTC:20190207T210000
DTSTAMP:20260420T191900
CREATED:20181120T153028Z
LAST-MODIFIED:20181211T141015Z
UID:10000778-1549566000-1549573200@familiesfeelingsafe.co.uk
SUMMARY:Families Feeling Safe programme for Dads in Broxbourne
DESCRIPTION:Families Feeling Safe Protective Behaviours for Dads of children 4-16 years. \nThursday evenings 9.00-7.00pm 7th February 2019 to 4th April 2019 (excluding half term)
URL:https://familiesfeelingsafe.co.uk/event/families-feeling-safe-programme-for-dads-in-broxbourne/
LOCATION:Wormley School Community Room\, Cozens Lane East\, Broxbourne\, EN10 6QA\, United Kingdom
CATEGORIES:Families,Families Feeling Safe programmes
ATTACH;FMTTYPE=image/jpeg:https://familiesfeelingsafe.co.uk/wp-content/uploads/2018/12/Families-Feeling-Safe-Dads.jpg
ORGANIZER;CN="Families Feeling Safe":MAILTO:admin@familiesfeelingsafe.co.uk
GEO:51.736559;-0.0177326
X-APPLE-STRUCTURED-LOCATION;VALUE=URI;X-ADDRESS=Wormley School Community Room Cozens Lane East Broxbourne EN10 6QA United Kingdom;X-APPLE-RADIUS=500;X-TITLE=Cozens Lane East:geo:-0.0177326,51.736559
END:VEVENT
BEGIN:VEVENT
DTSTART;TZID=UTC:20181010T093000
DTEND;TZID=UTC:20181010T113000
DTSTAMP:20260420T191900
CREATED:20181002T051839Z
LAST-MODIFIED:20181129T103948Z
UID:10000766-1539163800-1539171000@familiesfeelingsafe.co.uk
SUMMARY:Families Feeling Safe programme in Broxbourne
DESCRIPTION:We developed a programme for parents and carers – ‘Families Feeling Safe Programme’ to enable parents and carers to take charge of their lives by helping them recognise their own feelings and thoughts and take responsibility for their behaviours. \n\nDownload (PDF\, 397KB)
URL:https://familiesfeelingsafe.co.uk/event/families-feeling-safe-programme-in-broxbourne/
LOCATION:Wormley School Community Room\, Cozens Lane East\, Broxbourne\, EN10 6QA\, United Kingdom
CATEGORIES:Families,Families Feeling Safe programmes
ATTACH;FMTTYPE=image/jpeg:https://familiesfeelingsafe.co.uk/wp-content/uploads/2015/04/shutterstock_142808332-Large.jpg
ORGANIZER;CN="Families Feeling Safe":MAILTO:admin@familiesfeelingsafe.co.uk
GEO:51.736559;-0.0177326
X-APPLE-STRUCTURED-LOCATION;VALUE=URI;X-ADDRESS=Wormley School Community Room Cozens Lane East Broxbourne EN10 6QA United Kingdom;X-APPLE-RADIUS=500;X-TITLE=Cozens Lane East:geo:-0.0177326,51.736559
END:VEVENT
BEGIN:VEVENT
DTSTART;TZID=UTC:20180725T190000
DTEND;TZID=UTC:20180725T210000
DTSTAMP:20260420T191900
CREATED:20180326T083147Z
LAST-MODIFIED:20180326T083147Z
UID:10000744-1532545200-1532552400@familiesfeelingsafe.co.uk
SUMMARY:Protective Behaviours for dads and carers of children 4-15 years - Wormley
DESCRIPTION:Download (PDF\, 368KB)
URL:https://familiesfeelingsafe.co.uk/event/protective-behaviours-for-dads-and-carers-of-children-4-15-years-wormley/2018-07-25/
LOCATION:Wormley School Community Room\, Cozens Lane East\, Broxbourne\, EN10 6QA\, United Kingdom
CATEGORIES:Broxbourne,Families,Families Feeling Safe programmes
ORGANIZER;CN="Leigh Cole":MAILTO:lcole@wormely.herts.sch.uk
GEO:51.736559;-0.0177326
X-APPLE-STRUCTURED-LOCATION;VALUE=URI;X-ADDRESS=Wormley School Community Room Cozens Lane East Broxbourne EN10 6QA United Kingdom;X-APPLE-RADIUS=500;X-TITLE=Cozens Lane East:geo:-0.0177326,51.736559
END:VEVENT
BEGIN:VEVENT
DTSTART;TZID=UTC:20180622T093000
DTEND;TZID=UTC:20180622T113000
DTSTAMP:20260420T191900
CREATED:20180326T082952Z
LAST-MODIFIED:20180326T082952Z
UID:10000736-1529659800-1529667000@familiesfeelingsafe.co.uk
SUMMARY:Protective Behaviours for mums\, dads and carers of children 4-15 years - Wormley
DESCRIPTION:Download (PDF\, 369KB)
URL:https://familiesfeelingsafe.co.uk/event/protective-behaviours-for-mums-dads-and-carers-of-children-4-15-years-wormley/2018-06-22/
LOCATION:Wormley School Community Room\, Cozens Lane East\, Broxbourne\, EN10 6QA\, United Kingdom
CATEGORIES:Broxbourne,Families,Families Feeling Safe programmes
ORGANIZER;CN="Leigh Cole":MAILTO:lcole@wormely.herts.sch.uk
GEO:51.736559;-0.0177326
X-APPLE-STRUCTURED-LOCATION;VALUE=URI;X-ADDRESS=Wormley School Community Room Cozens Lane East Broxbourne EN10 6QA United Kingdom;X-APPLE-RADIUS=500;X-TITLE=Cozens Lane East:geo:-0.0177326,51.736559
END:VEVENT
BEGIN:VEVENT
DTSTART;TZID=UTC:20150923T093000
DTEND;TZID=UTC:20150923T113000
DTSTAMP:20260420T191900
CREATED:20150826T145110Z
LAST-MODIFIED:20150903T153756Z
UID:10000586-1443000600-1443007800@familiesfeelingsafe.co.uk
SUMMARY:For Mums\, Dads and Carers – Broxbourne - 5-12's - 23rd Sept - 18th Nov
DESCRIPTION:To register for your free place please call Leigh Cole Tel: 07951 497277
URL:https://familiesfeelingsafe.co.uk/event/for-mums-dads-and-carers-broxbourne-5-12s/
LOCATION:Wormley School Community Room\, Cozens Lane East\, Broxbourne\, EN10 6QA\, United Kingdom
CATEGORIES:6 -12,Broxbourne,Families,Families Feeling Safe programmes,No Creche
ORGANIZER;CN="Leigh Cole":MAILTO:lcole@wormely.herts.sch.uk
GEO:51.736559;-0.0177326
X-APPLE-STRUCTURED-LOCATION;VALUE=URI;X-ADDRESS=Wormley School Community Room Cozens Lane East Broxbourne EN10 6QA United Kingdom;X-APPLE-RADIUS=500;X-TITLE=Cozens Lane East:geo:-0.0177326,51.736559
END:VEVENT
END:VCALENDAR