BEGIN:VCALENDAR
VERSION:2.0
PRODID:-//Families Feeling Safe - ECPv6.15.11//NONSGML v1.0//EN
CALSCALE:GREGORIAN
METHOD:PUBLISH
X-ORIGINAL-URL:https://familiesfeelingsafe.co.uk
X-WR-CALDESC:Events for Families Feeling Safe
REFRESH-INTERVAL;VALUE=DURATION:PT1H
X-Robots-Tag:noindex
X-PUBLISHED-TTL:PT1H
BEGIN:VTIMEZONE
TZID:Europe/London
BEGIN:DAYLIGHT
TZOFFSETFROM:+0000
TZOFFSETTO:+0100
TZNAME:BST
DTSTART:20250330T010000
END:DAYLIGHT
BEGIN:STANDARD
TZOFFSETFROM:+0100
TZOFFSETTO:+0000
TZNAME:GMT
DTSTART:20251026T010000
END:STANDARD
BEGIN:DAYLIGHT
TZOFFSETFROM:+0000
TZOFFSETTO:+0100
TZNAME:BST
DTSTART:20260329T010000
END:DAYLIGHT
BEGIN:STANDARD
TZOFFSETFROM:+0100
TZOFFSETTO:+0000
TZNAME:GMT
DTSTART:20261025T010000
END:STANDARD
BEGIN:DAYLIGHT
TZOFFSETFROM:+0000
TZOFFSETTO:+0100
TZNAME:BST
DTSTART:20270328T010000
END:DAYLIGHT
BEGIN:STANDARD
TZOFFSETFROM:+0100
TZOFFSETTO:+0000
TZNAME:GMT
DTSTART:20271031T010000
END:STANDARD
END:VTIMEZONE
BEGIN:VEVENT
DTSTART;TZID=Europe/London:20260506T190000
DTEND;TZID=Europe/London:20260506T210000
DTSTAMP:20260420T184323
CREATED:20260310T152146Z
LAST-MODIFIED:20260415T170300Z
UID:10001116-1778094000-1778101200@familiesfeelingsafe.co.uk
SUMMARY:A fully funded (free) Families Feeling Safe programme for mums\, dads & carers
DESCRIPTION:Online course – Wednesday evenings 6 May—1 July 7.00pm—9.00pm
URL:https://familiesfeelingsafe.co.uk/event/a-fully-funded-free-families-feeling-safe-programme-for-mums-dads-carers-2/
CATEGORIES:Families,Families Feeling Safe programmes
ATTACH;FMTTYPE=image/jpeg:https://familiesfeelingsafe.co.uk/wp-content/uploads/2018/12/shutterstock_12085573.jpg
ORGANIZER;CN="Enquiries":MAILTO:enquiries@familiesfeelingsafe.co.uk
END:VEVENT
BEGIN:VEVENT
DTSTART;TZID=Europe/London:20260507T093000
DTEND;TZID=Europe/London:20260507T233000
DTSTAMP:20260420T184323
CREATED:20260310T151352Z
LAST-MODIFIED:20260415T170206Z
UID:10001115-1778146200-1778196600@familiesfeelingsafe.co.uk
SUMMARY:A fully funded (free) Families Feeling Safe programme for mums\, dads & carers
DESCRIPTION:Online course – Thursday mornings 7 May – 1 July 9.30 – 11.30
URL:https://familiesfeelingsafe.co.uk/event/a-fully-funded-free-families-feeling-safe-programme-for-mums-dads-carers/
CATEGORIES:Families,Families Feeling Safe programmes
ATTACH;FMTTYPE=image/jpeg:https://familiesfeelingsafe.co.uk/wp-content/uploads/2018/12/shutterstock_12085573.jpg
ORGANIZER;CN="Enquiries":MAILTO:enquiries@familiesfeelingsafe.co.uk
END:VEVENT
BEGIN:VEVENT
DTSTART;TZID=Europe/London:20260507T190000
DTEND;TZID=Europe/London:20260507T210000
DTSTAMP:20260420T184323
CREATED:20260310T152624Z
LAST-MODIFIED:20260310T160813Z
UID:10001117-1778180400-1778187600@familiesfeelingsafe.co.uk
SUMMARY:A fully funded (free) Families Feeling Safe programme for dads & male carers
DESCRIPTION:Online course – Wednesday evenings 7 May—2 July 7.00pm—9.00pm (excluding half term)
URL:https://familiesfeelingsafe.co.uk/event/a-fully-funded-free-families-feeling-safe-programme-for-dads-male-carers/
CATEGORIES:Families,Families Feeling Safe programmes
ATTACH;FMTTYPE=image/jpeg:https://familiesfeelingsafe.co.uk/wp-content/uploads/2025/09/shutterstock_68578435.jpg
ORGANIZER;CN="Enquiries":MAILTO:enquiries@familiesfeelingsafe.co.uk
END:VEVENT
END:VCALENDAR