BEGIN:VCALENDAR
VERSION:2.0
PRODID:-//Families Feeling Safe - ECPv6.15.11//NONSGML v1.0//EN
CALSCALE:GREGORIAN
METHOD:PUBLISH
X-ORIGINAL-URL:https://familiesfeelingsafe.co.uk
X-WR-CALDESC:Events for Families Feeling Safe
REFRESH-INTERVAL;VALUE=DURATION:PT1H
X-Robots-Tag:noindex
X-PUBLISHED-TTL:PT1H
BEGIN:VTIMEZONE
TZID:Europe/London
BEGIN:DAYLIGHT
TZOFFSETFROM:+0000
TZOFFSETTO:+0100
TZNAME:BST
DTSTART:20250330T010000
END:DAYLIGHT
BEGIN:STANDARD
TZOFFSETFROM:+0100
TZOFFSETTO:+0000
TZNAME:GMT
DTSTART:20251026T010000
END:STANDARD
BEGIN:DAYLIGHT
TZOFFSETFROM:+0000
TZOFFSETTO:+0100
TZNAME:BST
DTSTART:20260329T010000
END:DAYLIGHT
BEGIN:STANDARD
TZOFFSETFROM:+0100
TZOFFSETTO:+0000
TZNAME:GMT
DTSTART:20261025T010000
END:STANDARD
BEGIN:DAYLIGHT
TZOFFSETFROM:+0000
TZOFFSETTO:+0100
TZNAME:BST
DTSTART:20270328T010000
END:DAYLIGHT
BEGIN:STANDARD
TZOFFSETFROM:+0100
TZOFFSETTO:+0000
TZNAME:GMT
DTSTART:20271031T010000
END:STANDARD
END:VTIMEZONE
BEGIN:VEVENT
DTSTART;TZID=Europe/London:20260305T093000
DTEND;TZID=Europe/London:20260305T163000
DTSTAMP:20260420T184444
CREATED:20260126T101953Z
LAST-MODIFIED:20260126T101953Z
UID:10001111-1772703000-1772728200@familiesfeelingsafe.co.uk
SUMMARY:Protective Behaviours – Level 1 (Foundation) Training – Online
DESCRIPTION:This is an online Level 1 (Foundation) 2-Day course provided by Families Feeling Safe Protective Behaviours Services on Thursdays 5 & 12 March 2026\, 9.30am – 4.30pm. The cost for the 2 Day course is £245.00 + VAT (£294). The course fee includes all course materials\, a Level 1 book and certificate. This is an open access course for anyone wishing to learn about Protective Behaviours.
URL:https://familiesfeelingsafe.co.uk/event/protective-behaviours-level-1-foundation-training-online-13/
CATEGORIES:Professionals,Protective Behaviours training - Level 1
ATTACH;FMTTYPE=image/jpeg:https://familiesfeelingsafe.co.uk/wp-content/uploads/2025/04/Level-1-1620.jpg
ORGANIZER;CN="Enquiries":MAILTO:enquiries@familiesfeelingsafe.co.uk
END:VEVENT
BEGIN:VEVENT
DTSTART;TZID=Europe/London:20260318T093000
DTEND;TZID=Europe/London:20260318T163000
DTSTAMP:20260420T184444
CREATED:20250904T110419Z
LAST-MODIFIED:20250904T111253Z
UID:10001100-1773826200-1773851400@familiesfeelingsafe.co.uk
SUMMARY:Protective Behaviours – Online Level 2 Training
DESCRIPTION:Online Level 2 Training Course via Zoom – 18\, 19 & 26 March 2026\, 9.30am – 4.30pm\, 9.30am – 4.30pm (course includes all sessions). The cost per place is £445.00 + VAT (inclusive of course workbook and certificate)
URL:https://familiesfeelingsafe.co.uk/event/protective-behaviours-online-level-2-training-9/
CATEGORIES:Professionals,Protective Behaviours training - Level 2
ATTACH;FMTTYPE=image/jpeg:https://familiesfeelingsafe.co.uk/wp-content/uploads/2018/12/Level-2.jpg
ORGANIZER;CN="Enquiries":MAILTO:enquiries@familiesfeelingsafe.co.uk
END:VEVENT
END:VCALENDAR