BEGIN:VCALENDAR
VERSION:2.0
PRODID:-//Families Feeling Safe - ECPv6.15.11//NONSGML v1.0//EN
CALSCALE:GREGORIAN
METHOD:PUBLISH
X-WR-CALNAME:Families Feeling Safe
X-ORIGINAL-URL:https://familiesfeelingsafe.co.uk
X-WR-CALDESC:Events for Families Feeling Safe
REFRESH-INTERVAL;VALUE=DURATION:PT1H
X-Robots-Tag:noindex
X-PUBLISHED-TTL:PT1H
BEGIN:VTIMEZONE
TZID:Europe/London
BEGIN:DAYLIGHT
TZOFFSETFROM:+0000
TZOFFSETTO:+0100
TZNAME:BST
DTSTART:20220327T010000
END:DAYLIGHT
BEGIN:STANDARD
TZOFFSETFROM:+0100
TZOFFSETTO:+0000
TZNAME:GMT
DTSTART:20221030T010000
END:STANDARD
BEGIN:DAYLIGHT
TZOFFSETFROM:+0000
TZOFFSETTO:+0100
TZNAME:BST
DTSTART:20230326T010000
END:DAYLIGHT
BEGIN:STANDARD
TZOFFSETFROM:+0100
TZOFFSETTO:+0000
TZNAME:GMT
DTSTART:20231029T010000
END:STANDARD
BEGIN:DAYLIGHT
TZOFFSETFROM:+0000
TZOFFSETTO:+0100
TZNAME:BST
DTSTART:20240331T010000
END:DAYLIGHT
BEGIN:STANDARD
TZOFFSETFROM:+0100
TZOFFSETTO:+0000
TZNAME:GMT
DTSTART:20241027T010000
END:STANDARD
BEGIN:DAYLIGHT
TZOFFSETFROM:+0000
TZOFFSETTO:+0100
TZNAME:BST
DTSTART:20250330T010000
END:DAYLIGHT
BEGIN:STANDARD
TZOFFSETFROM:+0100
TZOFFSETTO:+0000
TZNAME:GMT
DTSTART:20251026T010000
END:STANDARD
BEGIN:DAYLIGHT
TZOFFSETFROM:+0000
TZOFFSETTO:+0100
TZNAME:BST
DTSTART:20260329T010000
END:DAYLIGHT
BEGIN:STANDARD
TZOFFSETFROM:+0100
TZOFFSETTO:+0000
TZNAME:GMT
DTSTART:20261025T010000
END:STANDARD
END:VTIMEZONE
BEGIN:VEVENT
DTSTART;TZID=Europe/London:20250128T093000
DTEND;TZID=Europe/London:20250128T113000
DTSTAMP:20260420T191904
CREATED:20241119T101420Z
LAST-MODIFIED:20241119T101420Z
UID:10001083-1738056600-1738063800@familiesfeelingsafe.co.uk
SUMMARY:Free Online course For Mums\, Dads & Carers
DESCRIPTION:Tuesdays 28 Jan—25 March 9.30am—11.30am Course code L5/am
URL:https://familiesfeelingsafe.co.uk/event/free-online-course-for-mums-dads-carers/
CATEGORIES:Families,Families Feeling Safe programmes
ATTACH;FMTTYPE=image/jpeg:https://familiesfeelingsafe.co.uk/wp-content/uploads/2018/12/shutterstock_12085573.jpg
ORGANIZER;CN="Enquiries":MAILTO:enquiries@familiesfeelingsafe.co.uk
END:VEVENT
BEGIN:VEVENT
DTSTART;TZID=Europe/London:20250124T093000
DTEND;TZID=Europe/London:20250124T113000
DTSTAMP:20260420T191904
CREATED:20241119T102104Z
LAST-MODIFIED:20241119T102104Z
UID:10001086-1737711000-1737718200@familiesfeelingsafe.co.uk
SUMMARY:A FREE course for Mums\, Dads\, and Carers of children 5-19yrs
DESCRIPTION:Friday mornings 9.30am—11.30am 24\, 31 Jan\, 7\, 14\, 21\, 28 Feb 2025
URL:https://familiesfeelingsafe.co.uk/event/a-free-course-for-mums-dads-and-carers-of-children-5-19yrs-2/
LOCATION:Wormley School Community Room\, Cozens Lane East\, Broxbourne\, EN10 6QA\, United Kingdom
CATEGORIES:Families,Families Feeling Safe programmes
ATTACH;FMTTYPE=image/jpeg:https://familiesfeelingsafe.co.uk/wp-content/uploads/2018/12/shutterstock_12085573.jpg
ORGANIZER;CN="Enquiries":MAILTO:enquiries@familiesfeelingsafe.co.uk
GEO:51.736559;-0.0177326
X-APPLE-STRUCTURED-LOCATION;VALUE=URI;X-ADDRESS=Wormley School Community Room Cozens Lane East Broxbourne EN10 6QA United Kingdom;X-APPLE-RADIUS=500;X-TITLE=Cozens Lane East:geo:-0.0177326,51.736559
END:VEVENT
BEGIN:VEVENT
DTSTART;TZID=Europe/London:20250123T093000
DTEND;TZID=Europe/London:20250123T163000
DTSTAMP:20260420T191904
CREATED:20241022T155130Z
LAST-MODIFIED:20241219T101232Z
UID:10001081-1737624600-1737649800@familiesfeelingsafe.co.uk
SUMMARY:PROTECTIVE BEHAVIOURS – Level 1 (Foundation) Training – ONLINE
DESCRIPTION:This is an online Level 1 (Foundation) course provided by Families Feeling Safe Protective Behaviours Services on Thursdays 23 & 30 January 2025\, 9.30am – 4.30pm. The cost for the 2 Day course is £245.00 + VAT (£294). The course fee includes all course materials\, a Level 1 book and certificate. This is an open access course for anyone wishing to learn about Protective Behaviours.
URL:https://familiesfeelingsafe.co.uk/event/protective-behaviours-level-1-foundation-training-online-8/
CATEGORIES:Professionals,Protective Behaviours training - Level 1
ATTACH;FMTTYPE=image/jpeg:https://familiesfeelingsafe.co.uk/wp-content/uploads/2018/12/Level-1.jpg
ORGANIZER;CN="Enquiries":MAILTO:enquiries@familiesfeelingsafe.co.uk
END:VEVENT
BEGIN:VEVENT
DTSTART;TZID=Europe/London:20250121T093000
DTEND;TZID=Europe/London:20250121T113000
DTSTAMP:20260420T191904
CREATED:20241119T100941Z
LAST-MODIFIED:20241119T100941Z
UID:10001082-1737451800-1737459000@familiesfeelingsafe.co.uk
SUMMARY:A FREE course for Mums\, Dads\, and Carers of children 5-19yrs
DESCRIPTION:Tuesday mornings 9.30am—11.30am 21\, 28 Jan\, 4\, 11\, 25 Feb\, 4\, 11 & 18 March 2025
URL:https://familiesfeelingsafe.co.uk/event/a-free-course-for-mums-dads-and-carers-of-children-5-19yrs/
LOCATION:Bengeo Primary School\, The Avenue\, Hertford\, Hertfordshire\, SG14 3DX\, United Kingdom
CATEGORIES:Families,Families Feeling Safe programmes
ATTACH;FMTTYPE=image/jpeg:https://familiesfeelingsafe.co.uk/wp-content/uploads/2018/12/Families-Feeling-Safe-Dads.jpg
ORGANIZER;CN="Enquiries":MAILTO:enquiries@familiesfeelingsafe.co.uk
GEO:51.8083529;-0.0833296
X-APPLE-STRUCTURED-LOCATION;VALUE=URI;X-ADDRESS=Bengeo Primary School The Avenue Hertford Hertfordshire SG14 3DX United Kingdom;X-APPLE-RADIUS=500;X-TITLE=The Avenue:geo:-0.0833296,51.8083529
END:VEVENT
BEGIN:VEVENT
DTSTART;TZID=Europe/London:20241118T093000
DTEND;TZID=Europe/London:20241118T163000
DTSTAMP:20260420T191904
CREATED:20240909T072656Z
LAST-MODIFIED:20240909T072656Z
UID:10001079-1731922200-1731947400@familiesfeelingsafe.co.uk
SUMMARY:PROTECTIVE BEHAVIOURS – Level 1 (Foundation) Training – ONLINE
DESCRIPTION:This is an online Level 1 (Foundation) course provided by Families Feeling Safe Protective Behaviours Services on Mondays 18 & 25 November 2024\, 9.30am – 4.30pm. The cost for the 2 Day course is £245.00 + VAT (£294). The course fee includes all course materials\, a Level 1 book and certificate. This is an open access course for anyone wishing to learn about Protective Behaviours.
URL:https://familiesfeelingsafe.co.uk/event/protective-behaviours-level-1-foundation-training-online-7/
CATEGORIES:Professionals,Protective Behaviours training - Level 1
ATTACH;FMTTYPE=image/jpeg:https://familiesfeelingsafe.co.uk/wp-content/uploads/2018/12/Level-1.jpg
ORGANIZER;CN="Enquiries":MAILTO:enquiries@familiesfeelingsafe.co.uk
END:VEVENT
BEGIN:VEVENT
DTSTART;TZID=Europe/London:20241104T190000
DTEND;TZID=Europe/London:20241104T210000
DTSTAMP:20260420T191904
CREATED:20241018T084138Z
LAST-MODIFIED:20241018T084138Z
UID:10001080-1730746800-1730754000@familiesfeelingsafe.co.uk
SUMMARY:FREE ONLINE Course for Mums\, Dads\, and Carers of children 0 -19yrs
DESCRIPTION:Monday evenings 7.00pm—9.00pm 4\, 11\, 18\, 25 Nov\, 2 & 9 December
URL:https://familiesfeelingsafe.co.uk/event/free-online-course-for-mums-dads-and-carers-of-children-0-19yrs/
CATEGORIES:Families,Families Feeling Safe programmes
ATTACH;FMTTYPE=image/jpeg:https://familiesfeelingsafe.co.uk/wp-content/uploads/2020/07/Families-Feeling-Safe-Dads.jpg
ORGANIZER;CN="Enquiries":MAILTO:enquiries@familiesfeelingsafe.co.uk
END:VEVENT
BEGIN:VEVENT
DTSTART;TZID=Europe/London:20241010T190000
DTEND;TZID=Europe/London:20241010T210000
DTSTAMP:20260420T191904
CREATED:20240607T123054Z
LAST-MODIFIED:20240621T071558Z
UID:10001074-1728586800-1728594000@familiesfeelingsafe.co.uk
SUMMARY:A FREE Online course For Dads & Male carers
DESCRIPTION:Thursdays evenings 7.00pm—9.00pm 10 October-5 December. For Mums\, Dads & Carers. Sessions will run on Zoom – we can help you with this.\nCourse code L4/eve
URL:https://familiesfeelingsafe.co.uk/event/a-free-online-course-for-dads-male-carers-2/
CATEGORIES:Families,Families Feeling Safe programmes
ATTACH;FMTTYPE=image/jpeg:https://familiesfeelingsafe.co.uk/wp-content/uploads/2020/07/Families-Feeling-Safe-Dads.jpg
ORGANIZER;CN="Enquiries":MAILTO:enquiries@familiesfeelingsafe.co.uk
END:VEVENT
BEGIN:VEVENT
DTSTART;TZID=Europe/London:20241010T093000
DTEND;TZID=Europe/London:20241010T113000
DTSTAMP:20260420T191904
CREATED:20240621T072042Z
LAST-MODIFIED:20240621T072101Z
UID:10001078-1728552600-1728559800@familiesfeelingsafe.co.uk
SUMMARY:A FREE course for Mums\, Dads\, and Carers of children 0 -19yrs
DESCRIPTION:Thursday mornings 9.30am—11.30am 10\, 17\, 24 Oct\, 7\, 14\, 21\, 28 Nov & 5 Dec 2024
URL:https://familiesfeelingsafe.co.uk/event/a-free-course-for-mums-dads-and-carers-of-children-0-19yrs/
LOCATION:Swallow Dell Primary and Nursery School\, Blackthorn Road\, Welwyn Garden City\, Hertfordshire\, AL7 3JP\, United Kingdom
CATEGORIES:Families,Families Feeling Safe programmes
ATTACH;FMTTYPE=image/jpeg:https://familiesfeelingsafe.co.uk/wp-content/uploads/2018/12/shutterstock_12085573.jpg
ORGANIZER;CN="Enquiries":MAILTO:enquiries@familiesfeelingsafe.co.uk
GEO:51.7944311;-0.1846067
X-APPLE-STRUCTURED-LOCATION;VALUE=URI;X-ADDRESS=Swallow Dell Primary and Nursery School Blackthorn Road Welwyn Garden City Hertfordshire AL7 3JP United Kingdom;X-APPLE-RADIUS=500;X-TITLE=Blackthorn Road:geo:-0.1846067,51.7944311
END:VEVENT
BEGIN:VEVENT
DTSTART;TZID=Europe/London:20241010T093000
DTEND;TZID=Europe/London:20241010T110000
DTSTAMP:20260420T191904
CREATED:20240620T140214Z
LAST-MODIFIED:20240621T071631Z
UID:10001077-1728552600-1728558000@familiesfeelingsafe.co.uk
SUMMARY:FREE course for Mums\, Dads\, Step-Parents and Carers of children pre-birth-11yrs
DESCRIPTION:Thursday mornings 9.30am—11.30am 10 October – 5 December 2024 (excl. half term 31/10)
URL:https://familiesfeelingsafe.co.uk/event/free-course-for-mums-dads-step-parents-and-carers-of-children-pre-birth-11yrs/
LOCATION:Warners End Community Centre\, Northridge Way\, Hemel Hempstead\, Hertfordshire\, HP1 3QG\, United Kingdom
CATEGORIES:Families,Families Feeling Safe programmes
ATTACH;FMTTYPE=image/jpeg:https://familiesfeelingsafe.co.uk/wp-content/uploads/2018/12/shutterstock_12085573.jpg
ORGANIZER;CN="Enquiries":MAILTO:enquiries@familiesfeelingsafe.co.uk
GEO:51.7552341;-0.492237
X-APPLE-STRUCTURED-LOCATION;VALUE=URI;X-ADDRESS=Warners End Community Centre Northridge Way Hemel Hempstead Hertfordshire HP1 3QG United Kingdom;X-APPLE-RADIUS=500;X-TITLE=Northridge Way:geo:-0.492237,51.7552341
END:VEVENT
BEGIN:VEVENT
DTSTART;TZID=Europe/London:20241008T190000
DTEND;TZID=Europe/London:20241008T210000
DTSTAMP:20260420T191904
CREATED:20240607T122941Z
LAST-MODIFIED:20240621T071514Z
UID:10001073-1728414000-1728421200@familiesfeelingsafe.co.uk
SUMMARY:A FREE Online course for Mums\, Dads and Carers
DESCRIPTION:Tuesdays evenings 7.00pm—9.00pm 8 October —3 December For Mums\, Dads & Carers. Sessions will run on Zoom – we can help you with this.\nCourse code L5/eve
URL:https://familiesfeelingsafe.co.uk/event/a-free-online-course-for-mums-dads-and-carers-6/
CATEGORIES:Families,Families Feeling Safe programmes
ATTACH;FMTTYPE=image/jpeg:https://familiesfeelingsafe.co.uk/wp-content/uploads/2018/12/shutterstock_12085573.jpg
ORGANIZER;CN="Enquiries":MAILTO:enquiries@familiesfeelingsafe.co.uk
END:VEVENT
BEGIN:VEVENT
DTSTART;TZID=Europe/London:20241008T093000
DTEND;TZID=Europe/London:20241008T113000
DTSTAMP:20260420T191904
CREATED:20240607T122738Z
LAST-MODIFIED:20240621T071400Z
UID:10001072-1728379800-1728387000@familiesfeelingsafe.co.uk
SUMMARY:A FREE Online course for Mums\, Dads and Carers
DESCRIPTION:Tuesdays mornings 9.30am—11.30am 8 October —3 December For Mums\, Dads & Carers. Sessions will run on Zoom – we can help you with this.\nCourse code L5/am
URL:https://familiesfeelingsafe.co.uk/event/a-free-online-course-for-mums-dads-and-carers-5/
CATEGORIES:Families,Families Feeling Safe programmes
ATTACH;FMTTYPE=image/jpeg:https://familiesfeelingsafe.co.uk/wp-content/uploads/2018/12/shutterstock_12085573.jpg
ORGANIZER;CN="Enquiries":MAILTO:enquiries@familiesfeelingsafe.co.uk
END:VEVENT
BEGIN:VEVENT
DTSTART;TZID=Europe/London:20240919T093000
DTEND;TZID=Europe/London:20240919T113000
DTSTAMP:20260420T191904
CREATED:20240606T083933Z
LAST-MODIFIED:20240621T071321Z
UID:10001071-1726738200-1726745400@familiesfeelingsafe.co.uk
SUMMARY:FREE course for Mums\, Dads\, and Carers of children 5-19yrs
DESCRIPTION:Thursday mornings 9.30am—11.30am 19\, 26 Sept\, 3\,10\, 17\, 24 Oct\, 7\, 14 & 21 November 2024
URL:https://familiesfeelingsafe.co.uk/event/free-course-for-mums-dads-and-carers-of-children-5-19yrs/
LOCATION:Wormley School Community Room\, Cozens Lane East\, Broxbourne\, EN10 6QA\, United Kingdom
CATEGORIES:Families,Families Feeling Safe programmes
ATTACH;FMTTYPE=image/jpeg:https://familiesfeelingsafe.co.uk/wp-content/uploads/2015/04/shutterstock_142808332-Large.jpg
GEO:51.736559;-0.0177326
X-APPLE-STRUCTURED-LOCATION;VALUE=URI;X-ADDRESS=Wormley School Community Room Cozens Lane East Broxbourne EN10 6QA United Kingdom;X-APPLE-RADIUS=500;X-TITLE=Cozens Lane East:geo:-0.0177326,51.736559
END:VEVENT
BEGIN:VEVENT
DTSTART;TZID=Europe/London:20240917T093000
DTEND;TZID=Europe/London:20240917T163000
DTSTAMP:20260420T191904
CREATED:20240620T132449Z
LAST-MODIFIED:20240620T132449Z
UID:10001075-1726565400-1726590600@familiesfeelingsafe.co.uk
SUMMARY:PROTECTIVE BEHAVIOURS – Level 1 (Foundation) Training – ONLINE
DESCRIPTION:This is an online Level 1 (Foundation) course provided by Families Feeling Safe Protective Behaviours Services on Tuesdays 17 & 24 September 2024\, 9.30am – 4.30pm. The cost for the 2 Day course is £245.00 + VAT (£294). The course fee includes all course materials\, a Level 1 book and certificate. This is an open access course for anyone wishing to learn about Protective Behaviours.
URL:https://familiesfeelingsafe.co.uk/event/protective-behaviours-level-1-foundation-training-online-6/
CATEGORIES:Professionals,Protective Behaviours training - Level 1
ATTACH;FMTTYPE=image/jpeg:https://familiesfeelingsafe.co.uk/wp-content/uploads/2018/12/Level-1.jpg
ORGANIZER;CN="Enquiries":MAILTO:enquiries@familiesfeelingsafe.co.uk
END:VEVENT
BEGIN:VEVENT
DTSTART;TZID=Europe/London:20240620T093000
DTEND;TZID=Europe/London:20240620T163000
DTSTAMP:20260420T191904
CREATED:20240308T085628Z
LAST-MODIFIED:20240308T085628Z
UID:10001066-1718875800-1718901000@familiesfeelingsafe.co.uk
SUMMARY:PROTECTIVE BEHAVIOURS – Level 1 (Foundation) Training – ONLINE
DESCRIPTION:This is an online Level 1 (Foundation) course provided by Families Feeling Safe Protective Behaviours Services on Thursdays 20 & 27 June 2024\, 9.30am – 4.30pm. The cost for the 2 Day course is £245.00 + VAT (£294). The course fee includes all course materials\, a Level 1 book and certificate. This is an open access course for anyone wishing to learn about Protective Behaviours.
URL:https://familiesfeelingsafe.co.uk/event/protective-behaviours-level-1-foundation-training-online-5/
ATTACH;FMTTYPE=image/jpeg:https://familiesfeelingsafe.co.uk/wp-content/uploads/2018/12/Level-1.jpg
ORGANIZER;CN="Enquiries":MAILTO:enquiries@familiesfeelingsafe.co.uk
END:VEVENT
BEGIN:VEVENT
DTSTART;TZID=Europe/London:20240613T093000
DTEND;TZID=Europe/London:20240613T160000
DTSTAMP:20260420T191904
CREATED:20230706T102736Z
LAST-MODIFIED:20240111T121848Z
UID:10001056-1718271000-1718294400@familiesfeelingsafe.co.uk
SUMMARY:Families Feeling Safe Facilitators’ Training Course
DESCRIPTION:Thursdays & Fridays 13 & 14 Jun 2024\, 9.30am – 4.00pm. £395+VAT (Cost includes a Copy of the Facilitator Manual)
URL:https://familiesfeelingsafe.co.uk/event/families-feeling-safe-facilitators-training-course-2/
LOCATION:Peartree Spring Primary School\, Hydean Way\, Stevenage\, SG2 9GG\, United Kingdom
CATEGORIES:Families Feeling Safe facilitator training,Professionals
ATTACH;FMTTYPE=image/jpeg:https://familiesfeelingsafe.co.uk/wp-content/uploads/2020/01/FFS-Facilitator-course.jpg
ORGANIZER;CN="Fiona Benjamin":MAILTO:enquiries@familiesfeelingsafe.co.uk
GEO:51.8920063;-0.1759844
X-APPLE-STRUCTURED-LOCATION;VALUE=URI;X-ADDRESS=Peartree Spring Primary School Hydean Way Stevenage SG2 9GG United Kingdom;X-APPLE-RADIUS=500;X-TITLE=Hydean Way:geo:-0.1759844,51.8920063
END:VEVENT
BEGIN:VEVENT
DTSTART;TZID=Europe/London:20240604T213000
DTEND;TZID=Europe/London:20240604T233000
DTSTAMP:20260420T191904
CREATED:20240308T090938Z
LAST-MODIFIED:20240308T090938Z
UID:10001069-1717536600-1717543800@familiesfeelingsafe.co.uk
SUMMARY:A FREE Online course for Mums\, Dads\, Step-Parents and Carers
DESCRIPTION:Daytime Tuesdays 9.30am -11.30am 4 June – 9 July
URL:https://familiesfeelingsafe.co.uk/event/a-free-online-course-for-mums-dads-step-parents-and-carers-11/
CATEGORIES:Families,Families Feeling Safe programmes
ATTACH;FMTTYPE=image/jpeg:https://familiesfeelingsafe.co.uk/wp-content/uploads/2018/12/shutterstock_12085573.jpg
ORGANIZER;CN="Enquiries":MAILTO:enquiries@familiesfeelingsafe.co.uk
END:VEVENT
BEGIN:VEVENT
DTSTART;TZID=Europe/London:20240509T190000
DTEND;TZID=Europe/London:20240509T210000
DTSTAMP:20260420T191904
CREATED:20240308T091135Z
LAST-MODIFIED:20240308T091135Z
UID:10001070-1715281200-1715288400@familiesfeelingsafe.co.uk
SUMMARY:A FREE Online course for Dads & Male Carers
DESCRIPTION:Evening Thursdays 7.00pm – 9.00pm 9 May – 4 July
URL:https://familiesfeelingsafe.co.uk/event/a-free-online-course-for-dads-male-carers/
CATEGORIES:Families,Families Feeling Safe programmes
ATTACH;FMTTYPE=image/jpeg:https://familiesfeelingsafe.co.uk/wp-content/uploads/2020/07/Families-Feeling-Safe-Dads.jpg
ORGANIZER;CN="Enquiries":MAILTO:enquiries@familiesfeelingsafe.co.uk
END:VEVENT
BEGIN:VEVENT
DTSTART;TZID=Europe/London:20240507T190000
DTEND;TZID=Europe/London:20240507T210000
DTSTAMP:20260420T191904
CREATED:20240308T090749Z
LAST-MODIFIED:20240321T155137Z
UID:10001068-1715108400-1715115600@familiesfeelingsafe.co.uk
SUMMARY:A FREE Online course for Mums\, Dads\, Step-Parents and Carers
DESCRIPTION:Evening Tuesdays 7.00pm – 9.00pm 7 May – 2 July
URL:https://familiesfeelingsafe.co.uk/event/a-free-online-course-for-mums-dads-step-parents-and-carers-10/
CATEGORIES:Families,Families Feeling Safe programmes
ATTACH;FMTTYPE=image/jpeg:https://familiesfeelingsafe.co.uk/wp-content/uploads/2018/12/shutterstock_12085573.jpg
ORGANIZER;CN="Enquiries":MAILTO:enquiries@familiesfeelingsafe.co.uk
END:VEVENT
BEGIN:VEVENT
DTSTART;TZID=Europe/London:20240503T093000
DTEND;TZID=Europe/London:20240503T113000
DTSTAMP:20260420T191904
CREATED:20240308T090337Z
LAST-MODIFIED:20240321T155038Z
UID:10001067-1714728600-1714735800@familiesfeelingsafe.co.uk
SUMMARY:A FREE course for Mums\, Dads\, Step-Parents and Carers of children 5-19yrs
DESCRIPTION:Friday mornings 9.30am—11.30am 3\, 10\, 17\, 24 May 7\, 14\, 21\, 28 June & 5 July 2024.
URL:https://familiesfeelingsafe.co.uk/event/a-free-course-for-mums-dads-step-parents-and-carers-of-children-5-19yrs-5/
LOCATION:Wormley School Community Room\, Cozens Lane East\, Broxbourne\, EN10 6QA\, United Kingdom
CATEGORIES:Families,Families Feeling Safe programmes
ATTACH;FMTTYPE=image/jpeg:https://familiesfeelingsafe.co.uk/wp-content/uploads/2018/12/shutterstock_12085573.jpg
GEO:51.736559;-0.0177326
X-APPLE-STRUCTURED-LOCATION;VALUE=URI;X-ADDRESS=Wormley School Community Room Cozens Lane East Broxbourne EN10 6QA United Kingdom;X-APPLE-RADIUS=500;X-TITLE=Cozens Lane East:geo:-0.0177326,51.736559
END:VEVENT
BEGIN:VEVENT
DTSTART;TZID=Europe/London:20240417T093000
DTEND;TZID=Europe/London:20240417T123000
DTSTAMP:20260420T191904
CREATED:20231016T072554Z
LAST-MODIFIED:20240111T121640Z
UID:10001059-1713346200-1713357000@familiesfeelingsafe.co.uk
SUMMARY:PROTECTIVE BEHAVIOURS – Online Level 2 Training
DESCRIPTION:Online Level 2 Training Course – Wednesdays & Thursdays 9.30am -12.30pm 17\, 18\, 24\, 25 April\, 1 & 2 May 2024. Online via Zoom. The cost per place is £445.00 + VAT. (inclusive of course workbook and certificate)
URL:https://familiesfeelingsafe.co.uk/event/protective-behaviours-online-level-2-training-7/
CATEGORIES:Professionals,Protective Behaviours training - Level 2
ATTACH;FMTTYPE=image/jpeg:https://familiesfeelingsafe.co.uk/wp-content/uploads/2018/12/Level-2.jpg
ORGANIZER;CN="Enquiries":MAILTO:enquiries@familiesfeelingsafe.co.uk
END:VEVENT
BEGIN:VEVENT
DTSTART;TZID=Europe/London:20240308T093000
DTEND;TZID=Europe/London:20240308T163000
DTSTAMP:20260420T191904
CREATED:20231207T144920Z
LAST-MODIFIED:20231207T144920Z
UID:10001065-1709890200-1709915400@familiesfeelingsafe.co.uk
SUMMARY:PROTECTIVE BEHAVIOURS – Level 1 (Foundation) Training – ONLINE
DESCRIPTION:This is an online Level 1 (Foundation) course provided by Families Feeling Safe Protective Behaviours Services on Fridays 8 & 15 March 2024\, 9.30am – 4.30pm. The cost for the 2 Day course is £215.00 + VAT (£258). The course fee includes all course materials\, a Level 1 book and certificate. This is an open access course for anyone wishing to learn about Protective Behaviours.
URL:https://familiesfeelingsafe.co.uk/event/protective-behaviours-level-1-foundation-training-online-4/
CATEGORIES:Professionals,Protective Behaviours training - Level 1
ATTACH;FMTTYPE=image/jpeg:https://familiesfeelingsafe.co.uk/wp-content/uploads/2018/12/Level-1.jpg
ORGANIZER;CN="Enquiries":MAILTO:enquiries@familiesfeelingsafe.co.uk
END:VEVENT
BEGIN:VEVENT
DTSTART;TZID=Europe/London:20240125T190000
DTEND;TZID=Europe/London:20240125T210000
DTSTAMP:20260420T191904
CREATED:20231127T114817Z
LAST-MODIFIED:20240109T115332Z
UID:10001064-1706209200-1706216400@familiesfeelingsafe.co.uk
SUMMARY:A FREE ONLINE course for Dads and Male Carers
DESCRIPTION:Evening Thursdays 7.00pm—9.00pm 25 Jan—21 March\nCourse code L4/eve
URL:https://familiesfeelingsafe.co.uk/event/a-free-online-course-for-dads-and-male-carers/
CATEGORIES:Families,Families Feeling Safe programmes
ATTACH;FMTTYPE=image/jpeg:https://familiesfeelingsafe.co.uk/wp-content/uploads/2020/07/Families-Feeling-Safe-Dads.jpg
ORGANIZER;CN="Enquiries":MAILTO:enquiries@familiesfeelingsafe.co.uk
END:VEVENT
BEGIN:VEVENT
DTSTART;TZID=Europe/London:20240123T190000
DTEND;TZID=Europe/London:20240123T210000
DTSTAMP:20260420T191904
CREATED:20231127T114605Z
LAST-MODIFIED:20240109T115353Z
UID:10001063-1706036400-1706043600@familiesfeelingsafe.co.uk
SUMMARY:A FREE ONLINE course for Mums\, Dads\, Step-Parents and Carers
DESCRIPTION:Evening Tuesdays 7.00pm—9.00pm 23 Jan—19 March\nCourse code L5/eve
URL:https://familiesfeelingsafe.co.uk/event/a-free-online-course-for-mums-dads-step-parents-and-carers-9/
CATEGORIES:Families,Families Feeling Safe programmes
ATTACH;FMTTYPE=image/jpeg:https://familiesfeelingsafe.co.uk/wp-content/uploads/2018/12/shutterstock_12085573.jpg
ORGANIZER;CN="Enquiries":MAILTO:enquiries@familiesfeelingsafe.co.uk
END:VEVENT
BEGIN:VEVENT
DTSTART;TZID=Europe/London:20240123T093000
DTEND;TZID=Europe/London:20240123T113000
DTSTAMP:20260420T191904
CREATED:20231113T113147Z
LAST-MODIFIED:20240109T115221Z
UID:10001061-1706002200-1706009400@familiesfeelingsafe.co.uk
SUMMARY:A FREE course for Mums\, Dads\, Step-Parents and Carers of children pre-birth-11yrs
DESCRIPTION:Tuesday mornings 9.30am—11.30am 23\, 30 Jan\, 6\, 13\, 27 Feb\, 5\, 12 & 19 March 2024
URL:https://familiesfeelingsafe.co.uk/event/a-free-course-for-mums-dads-step-parents-and-carers-of-children-pre-birth-11yrs-2/
LOCATION:Gadebridge Community Centre\, Rossgate\, Gadebridge\, Hemel Hempstead\, HP1 3LG\, United Kingdom
CATEGORIES:Families,Families Feeling Safe programmes
ATTACH;FMTTYPE=image/jpeg:https://familiesfeelingsafe.co.uk/wp-content/uploads/2020/07/Families-Feeling-Safe-Dads.jpg
ORGANIZER;CN="Enquiries":MAILTO:enquiries@familiesfeelingsafe.co.uk
GEO:51.7647866;-0.4893731
X-APPLE-STRUCTURED-LOCATION;VALUE=URI;X-ADDRESS=Gadebridge Community Centre Rossgate Gadebridge Hemel Hempstead HP1 3LG United Kingdom;X-APPLE-RADIUS=500;X-TITLE=Rossgate\, Gadebridge:geo:-0.4893731,51.7647866
END:VEVENT
BEGIN:VEVENT
DTSTART;TZID=Europe/London:20240122T093000
DTEND;TZID=Europe/London:20240122T113000
DTSTAMP:20260420T191904
CREATED:20231127T113736Z
LAST-MODIFIED:20240109T115610Z
UID:10001062-1705915800-1705923000@familiesfeelingsafe.co.uk
SUMMARY:A FREE ONLINE course for Mums\, Dads\, Step-Parents and Carers
DESCRIPTION:Daytime Mondays 9.30am -11.30am 22 Jan—18 March\nCourse code L5/am
URL:https://familiesfeelingsafe.co.uk/event/a-free-online-course-for-mums-dads-step-parents-and-carers-8/
CATEGORIES:Families,Families Feeling Safe programmes
ATTACH;FMTTYPE=image/jpeg:https://familiesfeelingsafe.co.uk/wp-content/uploads/2018/12/shutterstock_12085573.jpg
ORGANIZER;CN="Enquiries":MAILTO:enquiries@familiesfeelingsafe.co.uk
END:VEVENT
BEGIN:VEVENT
DTSTART;TZID=Europe/London:20240115T093000
DTEND;TZID=Europe/London:20240115T163000
DTSTAMP:20260420T191904
CREATED:20231016T072034Z
LAST-MODIFIED:20240109T115023Z
UID:10001058-1705311000-1705336200@familiesfeelingsafe.co.uk
SUMMARY:PROTECTIVE BEHAVIOURS – Level 1 (Foundation) Training – ONLINE
DESCRIPTION:This is an online Level 1 (Foundation) course provided by Families Feeling Safe Protective Behaviours Services on Mondays 15 & 22 January 2024\, 9.30am – 4.30pm. The cost for the 2 Day course is £215.00 + VAT (£258). The course fee includes all course materials\, a Level 1 book and certificate. This is an open access course for anyone wishing to learn about Protective Behaviours.
URL:https://familiesfeelingsafe.co.uk/event/protective-behaviours-level-1-foundation-training-online-3/
CATEGORIES:Professionals,Protective Behaviours training - Level 1
ATTACH;FMTTYPE=image/jpeg:https://familiesfeelingsafe.co.uk/wp-content/uploads/2018/12/Level-1.jpg
ORGANIZER;CN="Enquiries":MAILTO:enquiries@familiesfeelingsafe.co.uk
END:VEVENT
BEGIN:VEVENT
DTSTART;TZID=Europe/London:20231117T093000
DTEND;TZID=Europe/London:20231117T163000
DTSTAMP:20260420T191904
CREATED:20230911T132225Z
LAST-MODIFIED:20230911T132225Z
UID:10001057-1700213400-1700238600@familiesfeelingsafe.co.uk
SUMMARY:PROTECTIVE BEHAVIOURS – Level 1 (Foundation) Training - ONLINE
DESCRIPTION:This is an online Level 1 (Foundation) course provided by Families Feeling Safe Protective Behaviours Services on Fridays 17 & 24 November 2023\, 9.30am – 4.30pm. The cost for the 2 Day course is £215.00 + VAT (£258). The course fee includes all course materials\, a Level 1 book and certificate.
URL:https://familiesfeelingsafe.co.uk/event/protective-behaviours-level-1-foundation-training-online-2/
CATEGORIES:Professionals,Protective Behaviours training - Level 1
ATTACH;FMTTYPE=image/jpeg:https://familiesfeelingsafe.co.uk/wp-content/uploads/2018/12/Level-1.jpg
ORGANIZER;CN="Enquiries":MAILTO:enquiries@familiesfeelingsafe.co.uk
END:VEVENT
BEGIN:VEVENT
DTSTART;TZID=Europe/London:20231005T190000
DTEND;TZID=Europe/London:20231005T210000
DTSTAMP:20260420T191904
CREATED:20230601T125416Z
LAST-MODIFIED:20230608T074918Z
UID:10001052-1696532400-1696539600@familiesfeelingsafe.co.uk
SUMMARY:A FREE course for Dads\, Step-Dads and Male Carers - Online
DESCRIPTION:Online Thursday evenings 7.00pm – 9.00pm 5\, 12\, 19 Oct\, 2\, 9\, 16\, 23 & 30 Nov 2023. Sessions will run on Zoom – we can help you with this.
URL:https://familiesfeelingsafe.co.uk/event/a-free-course-for-dads-step-dads-and-male-carers-online/
CATEGORIES:Families,Families Feeling Safe programmes
ATTACH;FMTTYPE=image/jpeg:https://familiesfeelingsafe.co.uk/wp-content/uploads/2020/07/Families-Feeling-Safe-Dads.jpg
ORGANIZER;CN="Enquiries":MAILTO:enquiries@familiesfeelingsafe.co.uk
END:VEVENT
BEGIN:VEVENT
DTSTART;TZID=Europe/London:20231005T093000
DTEND;TZID=Europe/London:20231005T123000
DTSTAMP:20260420T191904
CREATED:20230130T154601Z
LAST-MODIFIED:20230519T105131Z
UID:10001043-1696498200-1696509000@familiesfeelingsafe.co.uk
SUMMARY:PROTECTIVE BEHAVIOURS – Online Level 2 Training
DESCRIPTION:Online Level 2 Training Course – Thursdays & Fridays 9.30am -12.30pm 5\, 6\, 12\, 13\, 19 & 20 October 2023. Online via Zoom. The cost per place is £445.00 + VAT.
URL:https://familiesfeelingsafe.co.uk/event/protective-behaviours-online-level-2-training-6/
CATEGORIES:Professionals,Protective Behaviours training - Level 2
ATTACH;FMTTYPE=image/jpeg:https://familiesfeelingsafe.co.uk/wp-content/uploads/2018/12/Level-2.jpg
ORGANIZER;CN="Enquiries":MAILTO:enquiries@familiesfeelingsafe.co.uk
END:VEVENT
BEGIN:VEVENT
DTSTART;TZID=Europe/London:20231005T093000
DTEND;TZID=Europe/London:20231005T113000
DTSTAMP:20260420T191904
CREATED:20230601T130314Z
LAST-MODIFIED:20230606T090853Z
UID:10001055-1696498200-1696505400@familiesfeelingsafe.co.uk
SUMMARY:A FREE course for Mums\, Dads\, Step-Parents and Carers - Online
DESCRIPTION:Online Thursday mornings 9.30am – 11.30am 5\, 12\, 19 Oct\, 2\, 9\, 16\, 23 & 30 Nov 2023. Sessions will run on Zoom – we can help you with this.
URL:https://familiesfeelingsafe.co.uk/event/a-free-course-for-mums-dads-step-parents-and-carers-online-3/
CATEGORIES:Families,Families Feeling Safe programmes
ATTACH;FMTTYPE=image/jpeg:https://familiesfeelingsafe.co.uk/wp-content/uploads/2018/12/shutterstock_12085573.jpg
ORGANIZER;CN="Enquiries":MAILTO:enquiries@familiesfeelingsafe.co.uk
END:VEVENT
END:VCALENDAR