BEGIN:VCALENDAR
VERSION:2.0
PRODID:-//Families Feeling Safe - ECPv6.15.11//NONSGML v1.0//EN
CALSCALE:GREGORIAN
METHOD:PUBLISH
X-WR-CALNAME:Families Feeling Safe
X-ORIGINAL-URL:https://familiesfeelingsafe.co.uk
X-WR-CALDESC:Events for Families Feeling Safe
REFRESH-INTERVAL;VALUE=DURATION:PT1H
X-Robots-Tag:noindex
X-PUBLISHED-TTL:PT1H
BEGIN:VTIMEZONE
TZID:Europe/London
BEGIN:DAYLIGHT
TZOFFSETFROM:+0000
TZOFFSETTO:+0100
TZNAME:BST
DTSTART:20240331T010000
END:DAYLIGHT
BEGIN:STANDARD
TZOFFSETFROM:+0100
TZOFFSETTO:+0000
TZNAME:GMT
DTSTART:20241027T010000
END:STANDARD
BEGIN:DAYLIGHT
TZOFFSETFROM:+0000
TZOFFSETTO:+0100
TZNAME:BST
DTSTART:20250330T010000
END:DAYLIGHT
BEGIN:STANDARD
TZOFFSETFROM:+0100
TZOFFSETTO:+0000
TZNAME:GMT
DTSTART:20251026T010000
END:STANDARD
BEGIN:DAYLIGHT
TZOFFSETFROM:+0000
TZOFFSETTO:+0100
TZNAME:BST
DTSTART:20260329T010000
END:DAYLIGHT
BEGIN:STANDARD
TZOFFSETFROM:+0100
TZOFFSETTO:+0000
TZNAME:GMT
DTSTART:20261025T010000
END:STANDARD
BEGIN:DAYLIGHT
TZOFFSETFROM:+0000
TZOFFSETTO:+0100
TZNAME:BST
DTSTART:20270328T010000
END:DAYLIGHT
BEGIN:STANDARD
TZOFFSETFROM:+0100
TZOFFSETTO:+0000
TZNAME:GMT
DTSTART:20271031T010000
END:STANDARD
END:VTIMEZONE
BEGIN:VEVENT
DTSTART;TZID=Europe/London:20260416T093000
DTEND;TZID=Europe/London:20260416T233000
DTSTAMP:20260420T134932
CREATED:20260309T144111Z
LAST-MODIFIED:20260310T082422Z
UID:10001114-1776331800-1776382200@familiesfeelingsafe.co.uk
SUMMARY:A fully funded (free) Families Feeling Safe programme for mums\, dads & carers
DESCRIPTION:Thursday mornings 9.30am—11.30am 16th April to 11th June (excluding half term)
URL:https://familiesfeelingsafe.co.uk/event/a-fully-funded-free-communication-workshop-for-mums-dads-carers-4/
LOCATION:The Community Alliance Hub\, 67 Fore street\, Hertford\, SG14 1AL\, United Kingdom
CATEGORIES:Families,Families Feeling Safe programmes
ATTACH;FMTTYPE=image/jpeg:https://familiesfeelingsafe.co.uk/wp-content/uploads/2019/05/Dad-daughter.jpg
ORGANIZER;CN="Enquiries":MAILTO:enquiries@familiesfeelingsafe.co.uk
END:VEVENT
BEGIN:VEVENT
DTSTART;TZID=Europe/London:20260318T093000
DTEND;TZID=Europe/London:20260318T163000
DTSTAMP:20260420T134932
CREATED:20250904T110419Z
LAST-MODIFIED:20250904T111253Z
UID:10001100-1773826200-1773851400@familiesfeelingsafe.co.uk
SUMMARY:Protective Behaviours – Online Level 2 Training
DESCRIPTION:Online Level 2 Training Course via Zoom – 18\, 19 & 26 March 2026\, 9.30am – 4.30pm\, 9.30am – 4.30pm (course includes all sessions). The cost per place is £445.00 + VAT (inclusive of course workbook and certificate)
URL:https://familiesfeelingsafe.co.uk/event/protective-behaviours-online-level-2-training-9/
CATEGORIES:Professionals,Protective Behaviours training - Level 2
ATTACH;FMTTYPE=image/jpeg:https://familiesfeelingsafe.co.uk/wp-content/uploads/2018/12/Level-2.jpg
ORGANIZER;CN="Enquiries":MAILTO:enquiries@familiesfeelingsafe.co.uk
END:VEVENT
BEGIN:VEVENT
DTSTART;TZID=Europe/London:20260305T093000
DTEND;TZID=Europe/London:20260305T163000
DTSTAMP:20260420T134932
CREATED:20260126T101953Z
LAST-MODIFIED:20260126T101953Z
UID:10001111-1772703000-1772728200@familiesfeelingsafe.co.uk
SUMMARY:Protective Behaviours – Level 1 (Foundation) Training – Online
DESCRIPTION:This is an online Level 1 (Foundation) 2-Day course provided by Families Feeling Safe Protective Behaviours Services on Thursdays 5 & 12 March 2026\, 9.30am – 4.30pm. The cost for the 2 Day course is £245.00 + VAT (£294). The course fee includes all course materials\, a Level 1 book and certificate. This is an open access course for anyone wishing to learn about Protective Behaviours.
URL:https://familiesfeelingsafe.co.uk/event/protective-behaviours-level-1-foundation-training-online-13/
CATEGORIES:Professionals,Protective Behaviours training - Level 1
ATTACH;FMTTYPE=image/jpeg:https://familiesfeelingsafe.co.uk/wp-content/uploads/2025/04/Level-1-1620.jpg
ORGANIZER;CN="Enquiries":MAILTO:enquiries@familiesfeelingsafe.co.uk
END:VEVENT
BEGIN:VEVENT
DTSTART;TZID=Europe/London:20260205T190000
DTEND;TZID=Europe/London:20260205T210000
DTSTAMP:20260420T134932
CREATED:20251117T110036Z
LAST-MODIFIED:20251117T110036Z
UID:10001103-1770318000-1770325200@familiesfeelingsafe.co.uk
SUMMARY:A fully funded (free) Dads and Male Carers course – for children 0-19
DESCRIPTION:Thursday evenings 5 Feb—26 March 7.00pm—9.00pm – Online
URL:https://familiesfeelingsafe.co.uk/event/a-fully-funded-free-dads-and-male-carers-course-for-children-0-19/
CATEGORIES:Families,Families Feeling Safe programmes
ATTACH;FMTTYPE=image/jpeg:https://familiesfeelingsafe.co.uk/wp-content/uploads/2020/07/Families-Feeling-Safe-Dads.jpg
ORGANIZER;CN="Enquiries":MAILTO:enquiries@familiesfeelingsafe.co.uk
END:VEVENT
BEGIN:VEVENT
DTSTART;TZID=Europe/London:20260204T190000
DTEND;TZID=Europe/London:20260204T210000
DTSTAMP:20260420T134932
CREATED:20251117T110305Z
LAST-MODIFIED:20251117T110305Z
UID:10001104-1770231600-1770238800@familiesfeelingsafe.co.uk
SUMMARY:A fully funded (free) Mums\, Dads and Carers course – for children 0-19
DESCRIPTION:Wednesday evenings 4 Feb—25 March 7.00pm—9.00pm – Online
URL:https://familiesfeelingsafe.co.uk/event/a-fully-funded-free-mums-dads-and-carers-course-for-children-0-19/
CATEGORIES:Families,Families Feeling Safe programmes
ATTACH;FMTTYPE=image/jpeg:https://familiesfeelingsafe.co.uk/wp-content/uploads/2018/12/shutterstock_12085573.jpg
ORGANIZER;CN="Enquiries":MAILTO:enquiries@familiesfeelingsafe.co.uk
END:VEVENT
BEGIN:VEVENT
DTSTART;TZID=Europe/London:20260204T093000
DTEND;TZID=Europe/London:20260204T233000
DTSTAMP:20260420T134932
CREATED:20251117T110532Z
LAST-MODIFIED:20251121T103946Z
UID:10001105-1770197400-1770247800@familiesfeelingsafe.co.uk
SUMMARY:A fully funded (free) Mums\, Dads and Carers course – for children 0-19
DESCRIPTION:Wednesday mornings 4 Feb—25 March 9.30am—11.30am – Online
URL:https://familiesfeelingsafe.co.uk/event/a-fully-funded-free-mums-dads-and-carers-course-for-children-0-19-2/
CATEGORIES:Families,Families Feeling Safe programmes
ATTACH;FMTTYPE=image/jpeg:https://familiesfeelingsafe.co.uk/wp-content/uploads/2018/12/shutterstock_12085573.jpg
ORGANIZER;CN="Enquiries":MAILTO:enquiries@familiesfeelingsafe.co.uk
END:VEVENT
BEGIN:VEVENT
DTSTART;TZID=Europe/London:20260126T190000
DTEND;TZID=Europe/London:20260126T210000
DTSTAMP:20260420T134932
CREATED:20251125T091417Z
LAST-MODIFIED:20251125T091417Z
UID:10001108-1769454000-1769461200@familiesfeelingsafe.co.uk
SUMMARY:A fully funded (free) All Feelings Matter workshop For Mums\, Dads & Carers
DESCRIPTION:Online – Monday 26 January 7.00pm—9.00pm
URL:https://familiesfeelingsafe.co.uk/event/a-fully-funded-free-all-feelings-matter-workshop-for-mums-dads-carers-3/
CATEGORIES:Families,Workshops
ATTACH;FMTTYPE=image/jpeg:https://familiesfeelingsafe.co.uk/wp-content/uploads/2019/05/Dad-daughter.jpg
ORGANIZER;CN="Enquiries":MAILTO:enquiries@familiesfeelingsafe.co.uk
END:VEVENT
BEGIN:VEVENT
DTSTART;TZID=Europe/London:20260122T093000
DTEND;TZID=Europe/London:20260122T113000
DTSTAMP:20260420T134932
CREATED:20251117T105724Z
LAST-MODIFIED:20251117T105724Z
UID:10001102-1769074200-1769081400@familiesfeelingsafe.co.uk
SUMMARY:A fully funded (free) Mums\, Dads and Carers course – for children 5-19
DESCRIPTION:Thursday mornings 9.30am—11.30am 22 Jan—26 March 2026
URL:https://familiesfeelingsafe.co.uk/event/a-fully-funded-free-mums-dads-and-carers-course-for-children-5-19/
LOCATION:Wormley School Community Room\, Cozens Lane East\, Broxbourne\, EN10 6QA\, United Kingdom
CATEGORIES:Families,Families Feeling Safe programmes
ATTACH;FMTTYPE=image/jpeg:https://familiesfeelingsafe.co.uk/wp-content/uploads/2018/12/shutterstock_12085573.jpg
GEO:51.736559;-0.0177326
X-APPLE-STRUCTURED-LOCATION;VALUE=URI;X-ADDRESS=Wormley School Community Room Cozens Lane East Broxbourne EN10 6QA United Kingdom;X-APPLE-RADIUS=500;X-TITLE=Cozens Lane East:geo:-0.0177326,51.736559
END:VEVENT
BEGIN:VEVENT
DTSTART;TZID=Europe/London:20260119T190000
DTEND;TZID=Europe/London:20260119T210000
DTSTAMP:20260420T134932
CREATED:20251125T092115Z
LAST-MODIFIED:20251125T092115Z
UID:10001110-1768849200-1768856400@familiesfeelingsafe.co.uk
SUMMARY:A fully funded (free) Communication workshop For Mums\, Dads & Carers
DESCRIPTION:Online – Monday 19 January 2026 7.00pm—9.00pm
URL:https://familiesfeelingsafe.co.uk/event/a-fully-funded-free-communication-workshop-for-mums-dads-carers-2/
CATEGORIES:Families,Workshops
ATTACH;FMTTYPE=image/jpeg:https://familiesfeelingsafe.co.uk/wp-content/uploads/2019/05/Dad-daughter.jpg
ORGANIZER;CN="Enquiries":MAILTO:enquiries@familiesfeelingsafe.co.uk
END:VEVENT
BEGIN:VEVENT
DTSTART;TZID=Europe/London:20251211T093000
DTEND;TZID=Europe/London:20251211T233000
DTSTAMP:20260420T134932
CREATED:20251125T091942Z
LAST-MODIFIED:20251125T091942Z
UID:10001109-1765445400-1765495800@familiesfeelingsafe.co.uk
SUMMARY:A fully funded (free) Communication workshop For Mums\, Dads & Carers
DESCRIPTION:Online – Thursday 11 December 2025 9.30am—11.30am
URL:https://familiesfeelingsafe.co.uk/event/a-fully-funded-free-communication-workshop-for-mums-dads-carers/
CATEGORIES:Families,Workshops
ATTACH;FMTTYPE=image/jpeg:https://familiesfeelingsafe.co.uk/wp-content/uploads/2019/05/Dad-daughter.jpg
ORGANIZER;CN="Enquiries":MAILTO:enquiries@familiesfeelingsafe.co.uk
END:VEVENT
BEGIN:VEVENT
DTSTART;TZID=Europe/London:20251210T190000
DTEND;TZID=Europe/London:20251210T210000
DTSTAMP:20260420T134932
CREATED:20251125T091312Z
LAST-MODIFIED:20251125T091312Z
UID:10001107-1765393200-1765400400@familiesfeelingsafe.co.uk
SUMMARY:A fully funded (free) All Feelings Matter workshop For Mums\, Dads & Carers
DESCRIPTION:Online – Wednesday 10 December 7.00pm—9.00pm
URL:https://familiesfeelingsafe.co.uk/event/a-fully-funded-free-all-feelings-matter-workshop-for-mums-dads-carers-2/
CATEGORIES:Families,Workshops
ATTACH;FMTTYPE=image/jpeg:https://familiesfeelingsafe.co.uk/wp-content/uploads/2019/05/Dad-daughter.jpg
ORGANIZER;CN="Enquiries":MAILTO:enquiries@familiesfeelingsafe.co.uk
END:VEVENT
BEGIN:VEVENT
DTSTART;TZID=Europe/London:20251210T093000
DTEND;TZID=Europe/London:20251210T113000
DTSTAMP:20260420T134932
CREATED:20251125T091051Z
LAST-MODIFIED:20251125T091051Z
UID:10001106-1765359000-1765366200@familiesfeelingsafe.co.uk
SUMMARY:A fully funded (free) All Feelings Matter workshop For Mums\, Dads & Carers
DESCRIPTION:Online – Wednesday 10 December 9.30am—11.30am
URL:https://familiesfeelingsafe.co.uk/event/a-fully-funded-free-all-feelings-matter-workshop-for-mums-dads-carers/
CATEGORIES:Families,Workshops
ATTACH;FMTTYPE=image/jpeg:https://familiesfeelingsafe.co.uk/wp-content/uploads/2019/05/Dad-daughter.jpg
ORGANIZER;CN="Enquiries":MAILTO:enquiries@familiesfeelingsafe.co.uk
END:VEVENT
BEGIN:VEVENT
DTSTART;TZID=Europe/London:20251201T093000
DTEND;TZID=Europe/London:20251201T163000
DTSTAMP:20260420T134932
CREATED:20250904T110849Z
LAST-MODIFIED:20250919T122303Z
UID:10001101-1764581400-1764606600@familiesfeelingsafe.co.uk
SUMMARY:Protective Behaviours – Level 1 (Foundation) Training – Online
DESCRIPTION:This is an online Level 1 (Foundation) 2-Day course provided by Families Feeling Safe Protective Behaviours Services on Mondays 1 & 8 December 2025\, 9.30am – 4.30pm. The cost for the 2 Day course is £245.00 + VAT (£294). The course fee includes all course materials\, a Level 1 book and certificate. This is an open access course for anyone wishing to learn about Protective Behaviours.
URL:https://familiesfeelingsafe.co.uk/event/protective-behaviours-level-1-foundation-training-online-12/
CATEGORIES:Professionals,Protective Behaviours training - Level 1
ATTACH;FMTTYPE=image/jpeg:https://familiesfeelingsafe.co.uk/wp-content/uploads/2025/04/Level-1-1620.jpg
ORGANIZER;CN="Enquiries":MAILTO:enquiries@familiesfeelingsafe.co.uk
END:VEVENT
BEGIN:VEVENT
DTSTART;TZID=Europe/London:20251009T190000
DTEND;TZID=Europe/London:20251009T210000
DTSTAMP:20260420T134932
CREATED:20250630T120512Z
LAST-MODIFIED:20250911T131334Z
UID:10001098-1760036400-1760043600@familiesfeelingsafe.co.uk
SUMMARY:A fully funded (free) Mums\, Dads and Carers course – for children 0-19
DESCRIPTION:Thursday evenings 9 Oct—4 Dec 7.00pm—9.00pm Course code L5/eve
URL:https://familiesfeelingsafe.co.uk/event/a-free-online-course-for-mums-dads-step-parents-and-carers-15/
CATEGORIES:Families,Families Feeling Safe programmes
ATTACH;FMTTYPE=image/jpeg:https://familiesfeelingsafe.co.uk/wp-content/uploads/2018/12/shutterstock_12085573.jpg
ORGANIZER;CN="Enquiries":MAILTO:enquiries@familiesfeelingsafe.co.uk
END:VEVENT
BEGIN:VEVENT
DTSTART;TZID=Europe/London:20251009T093000
DTEND;TZID=Europe/London:20251009T113000
DTSTAMP:20260420T134932
CREATED:20250630T120404Z
LAST-MODIFIED:20250904T105230Z
UID:10001097-1760002200-1760009400@familiesfeelingsafe.co.uk
SUMMARY:A fully funded (free) Mums\, Dads and Carers course – for children 0-19
DESCRIPTION:Thursday mornings 9 Oct —4 Dec 9.30am—11.30am Course code L5/am
URL:https://familiesfeelingsafe.co.uk/event/a-free-online-course-for-mums-dads-step-parents-and-carers-14/
CATEGORIES:Families,Families Feeling Safe programmes
ATTACH;FMTTYPE=image/jpeg:https://familiesfeelingsafe.co.uk/wp-content/uploads/2018/12/shutterstock_12085573.jpg
ORGANIZER;CN="Enquiries":MAILTO:enquiries@familiesfeelingsafe.co.uk
END:VEVENT
BEGIN:VEVENT
DTSTART;TZID=Europe/London:20251008T190000
DTEND;TZID=Europe/London:20251008T210000
DTSTAMP:20260420T134932
CREATED:20250630T113516Z
LAST-MODIFIED:20250904T105203Z
UID:10001096-1759950000-1759957200@familiesfeelingsafe.co.uk
SUMMARY:A fully funded (free) Dads and Male Carers course – for children 0-19
DESCRIPTION:Wednesday evenings 8 Oct—3 Dec 7.00pm—9.00pm (excluding half term) Course code L4/eve
URL:https://familiesfeelingsafe.co.uk/event/a-free-online-course-for-dads-and-male-carers-3/
CATEGORIES:Families,Families Feeling Safe programmes
ATTACH;FMTTYPE=image/jpeg:https://familiesfeelingsafe.co.uk/wp-content/uploads/2020/07/Families-Feeling-Safe-Dads.jpg
ORGANIZER;CN="Enquiries":MAILTO:enquiries@familiesfeelingsafe.co.uk
END:VEVENT
BEGIN:VEVENT
DTSTART;TZID=Europe/London:20250925T093000
DTEND;TZID=Europe/London:20250925T113000
DTSTAMP:20260420T134932
CREATED:20250716T081452Z
LAST-MODIFIED:20250923T161611Z
UID:10001099-1758792600-1758799800@familiesfeelingsafe.co.uk
SUMMARY:A fully funded (free) Mums\, Dads and Carers course – for children 5-19
DESCRIPTION:Thursday mornings 9.30am—11.30am 25 Sept—27 Nov 2025 (excluding half-term)
URL:https://familiesfeelingsafe.co.uk/event/a-free-course-for-mums-dads-and-carers-of-children-0-19yrs-2/
LOCATION:Hoddesdon Enterprise Centre\, Pindar Road\, Hoddesdon\, EN11 0FJ
CATEGORIES:Families,Families Feeling Safe programmes
ATTACH;FMTTYPE=image/jpeg:https://familiesfeelingsafe.co.uk/wp-content/uploads/2018/12/shutterstock_12085573.jpg
GEO:51.7652182;0.0025976
X-APPLE-STRUCTURED-LOCATION;VALUE=URI;X-ADDRESS=Hoddesdon Enterprise Centre Pindar Road Hoddesdon EN11 0FJ;X-APPLE-RADIUS=500;X-TITLE=Pindar Road:geo:0.0025976,51.7652182
END:VEVENT
BEGIN:VEVENT
DTSTART;TZID=Europe/London:20250918T093000
DTEND;TZID=Europe/London:20250918T163000
DTSTAMP:20260420T134932
CREATED:20250429T072040Z
LAST-MODIFIED:20250916T134135Z
UID:10001095-1758187800-1758213000@familiesfeelingsafe.co.uk
SUMMARY:Protective Behaviours – Level 1 (Foundation) Training – Online
DESCRIPTION:This is an online Level 1 (Foundation) course provided by Families Feeling Safe Protective Behaviours Services on Thursdays 18th & 25 September2025\, 9.30am – 4.30pm. The cost for the 2 Day course is £245.00 + VAT (£294). The course fee includes all course materials\, a Level 1 book and certificate. This is an open access course for anyone wishing to learn about Protective Behaviours.
URL:https://familiesfeelingsafe.co.uk/event/protective-behaviours-level-1-foundation-training-online-11/
CATEGORIES:Professionals,Protective Behaviours training - Level 1
ATTACH;FMTTYPE=image/jpeg:https://familiesfeelingsafe.co.uk/wp-content/uploads/2025/04/Level-1-1620.jpg
ORGANIZER;CN="Enquiries":MAILTO:enquiries@familiesfeelingsafe.co.uk
END:VEVENT
BEGIN:VEVENT
DTSTART;TZID=Europe/London:20250612T093000
DTEND;TZID=Europe/London:20250612T163000
DTSTAMP:20260420T134932
CREATED:20250314T134108Z
LAST-MODIFIED:20250507T101812Z
UID:10001094-1749720600-1749745800@familiesfeelingsafe.co.uk
SUMMARY:PROTECTIVE BEHAVIOURS – Level 1 (Foundation) Training – ONLINE
DESCRIPTION:This is an online Level 1 (Foundation) course provided by Families Feeling Safe Protective Behaviours Services on Thursdays 12 & 19 June 2025\, 9.30am – 4.30pm. The cost for the 2 Day course is £245.00 + VAT (£294). The course fee includes all course materials\, a Level 1 book and certificate. This is an open access course for anyone wishing to learn about Protective Behaviours.
URL:https://familiesfeelingsafe.co.uk/event/protective-behaviours-level-1-foundation-training-online-10/
CATEGORIES:Professionals,Protective Behaviours training - Level 1
ATTACH;FMTTYPE=image/jpeg:https://familiesfeelingsafe.co.uk/wp-content/uploads/2018/11/Level-1-1464.jpg
ORGANIZER;CN="Enquiries":MAILTO:enquiries@familiesfeelingsafe.co.uk
END:VEVENT
BEGIN:VEVENT
DTSTART;TZID=Europe/London:20250508T190000
DTEND;TZID=Europe/London:20250508T210000
DTSTAMP:20260420T134932
CREATED:20250313T121201Z
LAST-MODIFIED:20250507T101749Z
UID:10001093-1746730800-1746738000@familiesfeelingsafe.co.uk
SUMMARY:A FREE ONLINE course for Mums\, Dads\, Step-Parents and Carers
DESCRIPTION:Thursday evenings 8 May—3 July 7.00pm—9.00pm Course code L5/eve
URL:https://familiesfeelingsafe.co.uk/event/a-free-online-course-for-mums-dads-step-parents-and-carers-13/
CATEGORIES:Families,Families Feeling Safe programmes
ATTACH;FMTTYPE=image/jpeg:https://familiesfeelingsafe.co.uk/wp-content/uploads/2018/12/shutterstock_12085573.jpg
ORGANIZER;CN="Enquiries":MAILTO:enquiries@familiesfeelingsafe.co.uk
END:VEVENT
BEGIN:VEVENT
DTSTART;TZID=Europe/London:20250507T093000
DTEND;TZID=Europe/London:20250507T113000
DTSTAMP:20260420T134932
CREATED:20231113T112908Z
LAST-MODIFIED:20250429T070822Z
UID:10001060-1746610200-1746617400@familiesfeelingsafe.co.uk
SUMMARY:A FREE course for Mums\, Dads\, Step-Parents and Carers of children 5-19yrs
DESCRIPTION:Wednesday mornings 9.30am—11.30am 7 May—9 July (excluding half-term)
URL:https://familiesfeelingsafe.co.uk/event/a-free-course-for-mums-dads-step-parents-and-carers-of-children-5-19yrs-4/
LOCATION:Wormley School Community Room\, Cozens Lane East\, Broxbourne\, EN10 6QA\, United Kingdom
CATEGORIES:Families,Families Feeling Safe programmes
ATTACH;FMTTYPE=image/jpeg:https://familiesfeelingsafe.co.uk/wp-content/uploads/2018/12/shutterstock_12085573.jpg
GEO:51.736559;-0.0177326
X-APPLE-STRUCTURED-LOCATION;VALUE=URI;X-ADDRESS=Wormley School Community Room Cozens Lane East Broxbourne EN10 6QA United Kingdom;X-APPLE-RADIUS=500;X-TITLE=Cozens Lane East:geo:-0.0177326,51.736559
END:VEVENT
BEGIN:VEVENT
DTSTART;TZID=Europe/London:20250506T190000
DTEND;TZID=Europe/London:20250506T210000
DTSTAMP:20260420T134932
CREATED:20250313T120635Z
LAST-MODIFIED:20250314T132754Z
UID:10001091-1746558000-1746565200@familiesfeelingsafe.co.uk
SUMMARY:A FREE ONLINE course for Dads and Male Carers
DESCRIPTION:Tuesday evenings 6 May—1 July 7.00pm—9.00pm (excluding half term) Course code L4/eve
URL:https://familiesfeelingsafe.co.uk/event/a-free-online-course-for-dads-and-male-carers-2/
CATEGORIES:Families,Families Feeling Safe programmes
ATTACH;FMTTYPE=image/jpeg:https://familiesfeelingsafe.co.uk/wp-content/uploads/2020/07/Families-Feeling-Safe-Dads.jpg
ORGANIZER;CN="Enquiries":MAILTO:enquiries@familiesfeelingsafe.co.uk
END:VEVENT
BEGIN:VEVENT
DTSTART;TZID=Europe/London:20250506T093000
DTEND;TZID=Europe/London:20250506T113000
DTSTAMP:20260420T134932
CREATED:20250313T120959Z
LAST-MODIFIED:20250314T132340Z
UID:10001092-1746523800-1746531000@familiesfeelingsafe.co.uk
SUMMARY:A FREE ONLINE course for Mums\, Dads\, Step-Parents and Carers
DESCRIPTION:Tuesday mornings 6 May—1 July 9.30am—11.30am Course code L5/am
URL:https://familiesfeelingsafe.co.uk/event/a-free-online-course-for-mums-dads-step-parents-and-carers-12/
CATEGORIES:Families,Families Feeling Safe programmes
ATTACH;FMTTYPE=image/jpeg:https://familiesfeelingsafe.co.uk/wp-content/uploads/2018/12/shutterstock_12085573.jpg
ORGANIZER;CN="Enquiries":MAILTO:enquiries@familiesfeelingsafe.co.uk
END:VEVENT
BEGIN:VEVENT
DTSTART;TZID=Europe/London:20250401T190000
DTEND;TZID=Europe/London:20250401T210000
DTSTAMP:20260420T134932
CREATED:20250226T125549Z
LAST-MODIFIED:20250226T125721Z
UID:10001089-1743534000-1743541200@familiesfeelingsafe.co.uk
SUMMARY:Free Online Communication workshop for Mums\, Dads & Carers
DESCRIPTION:This 2 hour fully funded workshop is open to all Hertfordshire parents and carers. Tuesday 1 April 9.30am—11.30 or 7.00pm—9.00pm
URL:https://familiesfeelingsafe.co.uk/event/free-online-communication-workshop-for-for-mums-dads-carers-2/
CATEGORIES:Families,Families Feeling Safe programmes
ATTACH;FMTTYPE=image/jpeg:https://familiesfeelingsafe.co.uk/wp-content/uploads/2018/12/shutterstock_68578435.jpg
ORGANIZER;CN="Enquiries":MAILTO:enquiries@familiesfeelingsafe.co.uk
END:VEVENT
BEGIN:VEVENT
DTSTART;TZID=Europe/London:20250401T093000
DTEND;TZID=Europe/London:20250401T113000
DTSTAMP:20260420T134932
CREATED:20250226T125501Z
LAST-MODIFIED:20250226T125732Z
UID:10001088-1743499800-1743507000@familiesfeelingsafe.co.uk
SUMMARY:Free Online Communication workshop for Mums\, Dads & Carers
DESCRIPTION:This 2 hour fully funded workshop is open to all Hertfordshire parents and carers. Tuesday 1 April 9.30am—11.30 or 7.00pm—9.00pm
URL:https://familiesfeelingsafe.co.uk/event/free-online-communication-workshop-for-for-mums-dads-carers/
CATEGORIES:Families,Families Feeling Safe programmes
ATTACH;FMTTYPE=image/jpeg:https://familiesfeelingsafe.co.uk/wp-content/uploads/2018/12/shutterstock_68578435.jpg
ORGANIZER;CN="Enquiries":MAILTO:enquiries@familiesfeelingsafe.co.uk
END:VEVENT
BEGIN:VEVENT
DTSTART;TZID=Europe/London:20250331T190000
DTEND;TZID=Europe/London:20250331T210000
DTSTAMP:20260420T134932
CREATED:20250226T125705Z
LAST-MODIFIED:20250226T125705Z
UID:10001090-1743447600-1743454800@familiesfeelingsafe.co.uk
SUMMARY:Free Online Communication workshop for Dads & Male Carers
DESCRIPTION:This 2 hour fully funded workshop is open to all Hertfordshire parents and carers. Monday 31 March 7.00pm—9.00pm
URL:https://familiesfeelingsafe.co.uk/event/free-online-communication-workshop-for-dads-male-carers/
CATEGORIES:Families,Families Feeling Safe programmes
ATTACH;FMTTYPE=image/jpeg:https://familiesfeelingsafe.co.uk/wp-content/uploads/2018/12/shutterstock_68578435.jpg
ORGANIZER;CN="Enquiries":MAILTO:enquiries@familiesfeelingsafe.co.uk
END:VEVENT
BEGIN:VEVENT
DTSTART;TZID=Europe/London:20250317T093000
DTEND;TZID=Europe/London:20250317T163000
DTSTAMP:20260420T134932
CREATED:20241207T090444Z
LAST-MODIFIED:20250314T134152Z
UID:10001087-1742203800-1742229000@familiesfeelingsafe.co.uk
SUMMARY:PROTECTIVE BEHAVIOURS – Level 1 (Foundation) Training – ONLINE
DESCRIPTION:This is an online Level 1 (Foundation) course provided by Families Feeling Safe Protective Behaviours Services on Mondays 17 & 24 March 2025\, 9.30am – 4.30pm. The cost for the 2 Day course is £245.00 + VAT (£294). The course fee includes all course materials\, a Level 1 book and certificate. This is an open access course for anyone wishing to learn about Protective Behaviours.
URL:https://familiesfeelingsafe.co.uk/event/protective-behaviours-level-1-foundation-training-online-9/
CATEGORIES:Professionals,Protective Behaviours training - Level 1
ATTACH;FMTTYPE=image/jpeg:https://familiesfeelingsafe.co.uk/wp-content/uploads/2018/11/Level-1-1464.jpg
ORGANIZER;CN="Enquiries":MAILTO:enquiries@familiesfeelingsafe.co.uk
END:VEVENT
BEGIN:VEVENT
DTSTART;TZID=Europe/London:20250227T190000
DTEND;TZID=Europe/London:20250227T210000
DTSTAMP:20260420T134932
CREATED:20241119T101818Z
LAST-MODIFIED:20250211T090142Z
UID:10001085-1740682800-1740690000@familiesfeelingsafe.co.uk
SUMMARY:Free Online course For Dads & Male Carers
DESCRIPTION:Thursdays 7.00pm—9.00pm 27 February— 3 April 2025
URL:https://familiesfeelingsafe.co.uk/event/free-online-course-for-dads-male-carers/
CATEGORIES:Families,Families Feeling Safe programmes
ATTACH;FMTTYPE=image/jpeg:https://familiesfeelingsafe.co.uk/wp-content/uploads/2018/12/Families-Feeling-Safe-Dads.jpg
ORGANIZER;CN="Enquiries":MAILTO:enquiries@familiesfeelingsafe.co.uk
END:VEVENT
BEGIN:VEVENT
DTSTART;TZID=Europe/London:20250227T093000
DTEND;TZID=Europe/London:20250227T123000
DTSTAMP:20260420T134932
CREATED:20240620T134823Z
LAST-MODIFIED:20240620T134823Z
UID:10001076-1740648600-1740659400@familiesfeelingsafe.co.uk
SUMMARY:PROTECTIVE BEHAVIOURS – Online Level 2 Training
DESCRIPTION:Online Level 2 Training Course via Zoom – 27\, 28 Feb\, 6 & 7 March 9.30am – 12.30 and Thursday 13 March 9.30am – 4.30pm (course includes all sessions). The cost per place is £445.00 + VAT (inclusive of course workbook and certificate)
URL:https://familiesfeelingsafe.co.uk/event/protective-behaviours-online-level-2-training-8/
CATEGORIES:Professionals,Protective Behaviours training - Level 2
ATTACH;FMTTYPE=image/jpeg:https://familiesfeelingsafe.co.uk/wp-content/uploads/2018/12/Level-2.jpg
ORGANIZER;CN="Enquiries":MAILTO:enquiries@familiesfeelingsafe.co.uk
END:VEVENT
BEGIN:VEVENT
DTSTART;TZID=Europe/London:20250128T190000
DTEND;TZID=Europe/London:20250128T210000
DTSTAMP:20260420T134932
CREATED:20241119T101608Z
LAST-MODIFIED:20241119T101608Z
UID:10001084-1738090800-1738098000@familiesfeelingsafe.co.uk
SUMMARY:Free Online course For Mums\, Dads & Carers
DESCRIPTION:Tuesdays 28 Jan—25 March 7.00pm—9.00pm Course code L5/eve
URL:https://familiesfeelingsafe.co.uk/event/free-online-course-for-mums-dads-carers-2/
CATEGORIES:Families,Families Feeling Safe programmes
ATTACH;FMTTYPE=image/jpeg:https://familiesfeelingsafe.co.uk/wp-content/uploads/2018/12/shutterstock_12085573.jpg
ORGANIZER;CN="Enquiries":MAILTO:enquiries@familiesfeelingsafe.co.uk
END:VEVENT
END:VCALENDAR